BEGIN:VCALENDAR
VERSION:2.0
PRODID:-//Our Lady Chapel - ECPv6.15.20//NONSGML v1.0//EN
CALSCALE:GREGORIAN
METHOD:PUBLISH
X-ORIGINAL-URL:https://ourladychapel.org
X-WR-CALDESC:Events for Our Lady Chapel
REFRESH-INTERVAL;VALUE=DURATION:PT1H
X-Robots-Tag:noindex
X-PUBLISHED-TTL:PT1H
BEGIN:VTIMEZONE
TZID:America/New_York
BEGIN:DAYLIGHT
TZOFFSETFROM:-0500
TZOFFSETTO:-0400
TZNAME:EDT
DTSTART:20240310T070000
END:DAYLIGHT
BEGIN:STANDARD
TZOFFSETFROM:-0400
TZOFFSETTO:-0500
TZNAME:EST
DTSTART:20241103T060000
END:STANDARD
BEGIN:DAYLIGHT
TZOFFSETFROM:-0500
TZOFFSETTO:-0400
TZNAME:EDT
DTSTART:20250309T070000
END:DAYLIGHT
BEGIN:STANDARD
TZOFFSETFROM:-0400
TZOFFSETTO:-0500
TZNAME:EST
DTSTART:20251102T060000
END:STANDARD
BEGIN:DAYLIGHT
TZOFFSETFROM:-0500
TZOFFSETTO:-0400
TZNAME:EDT
DTSTART:20260308T070000
END:DAYLIGHT
BEGIN:STANDARD
TZOFFSETFROM:-0400
TZOFFSETTO:-0500
TZNAME:EST
DTSTART:20261101T060000
END:STANDARD
END:VTIMEZONE
BEGIN:VEVENT
DTSTART;TZID=America/New_York:20251005T113000
DTEND;TZID=America/New_York:20251005T130000
DTSTAMP:20260424T000944
CREATED:20250725T181123Z
LAST-MODIFIED:20251002T202529Z
UID:8657-1759663800-1759669200@ourladychapel.org
SUMMARY:Pet Blessing\, plus Donuts & Coffee
DESCRIPTION:Please join us today after Mass for two special events\, from 11:30 am – 1:00 pm. \nWe will be offering Coffee & Donuts today after Mass in the Gilmour Commons. \nAlso after Mass today\, we will have our annual Pet Blessing.   In honor of the Feast of St. Francis\, Fr. John will be available to bless your pet.  This will take place outside the Chapel\, in the brick circle.   If you cannot bring your pet\, you may bring a picture of your pet for a blessing.  If it rains\, we will postpone this event to the following Sunday\, October 12. \nWe hope you will join us!
URL:https://ourladychapel.org/event/pet-blessing-plus-donuts-coffee/
CATEGORIES:Community
ATTACH;FMTTYPE=image/jpeg:https://ourladychapel.org/wp-content/uploads/2022/03/Our-Lady-Chapel.jpg
END:VEVENT
BEGIN:VEVENT
DTSTART;TZID=America/New_York:20251012T113000
DTEND;TZID=America/New_York:20251012T130000
DTSTAMP:20260424T000944
CREATED:20250924T173746Z
LAST-MODIFIED:20250924T173746Z
UID:8990-1760268600-1760274000@ourladychapel.org
SUMMARY:"The Chosen" ~ Video & Discussion
DESCRIPTION:After Mass today\, we will be presenting an episode of the television series “The Chosen.”    We will be seated in the Chapel\, and the video will be presented on our screens. \nFollowing the video presentation\, we will gather in the Lennon Boardroom for some refreshments\, and a discussion on the episode.   More information on the particular episode Fr. John has selected will be announced shortly. \nPlease join us for some wonderful spiritual conversation\, and a better understanding of the stories in Scripture.
URL:https://ourladychapel.org/event/the-chosen-video-discussion/
CATEGORIES:Community
ATTACH;FMTTYPE=image/jpeg:https://ourladychapel.org/wp-content/uploads/2021/06/church-09.jpg
END:VEVENT
BEGIN:VEVENT
DTSTART;TZID=America/New_York:20251028T180000
DTEND;TZID=America/New_York:20251028T203000
DTSTAMP:20260424T000944
CREATED:20250907T140210Z
LAST-MODIFIED:20251002T202324Z
UID:8898-1761674400-1761683400@ourladychapel.org
SUMMARY:Women's Fall Retreat
DESCRIPTION:Save the Date!   Our annual fall Women’s Retreat will be on Tuesday evening\, October 28th.    \nAll women of Our Lady Chapel and Gilmour Academy\, and their guests\, are welcome. We will begin with Mass together in the Chapel\, and then move across the hall to the Lennon Boardroom for a light supper\, and spiritual discussion\, led by Father John. There is no cost for the evening\, but we will accept free will donations to offset the cost of our food service.  [If you can’t make it for Mass\, come anyway when you can.]  It will be a wonderful evening of spiritual renewal. \nSo mark the date on your calendars and give yourself a treat in the Lord.  Sign up on the retreat sheet which is located on the easel in the narthex of the Chapel\, or call [440-473-3560] or email: szaniszlop@gilmour.org.
URL:https://ourladychapel.org/event/womens-fall-retreat-2/
CATEGORIES:Community
ATTACH;FMTTYPE=image/jpeg:https://ourladychapel.org/wp-content/uploads/2022/03/Our-Lady-Chapel.jpg
END:VEVENT
END:VCALENDAR