BEGIN:VCALENDAR
VERSION:2.0
PRODID:-//Our Lady Chapel - ECPv6.15.20//NONSGML v1.0//EN
CALSCALE:GREGORIAN
METHOD:PUBLISH
X-ORIGINAL-URL:https://ourladychapel.org
X-WR-CALDESC:Events for Our Lady Chapel
REFRESH-INTERVAL;VALUE=DURATION:PT1H
X-Robots-Tag:noindex
X-PUBLISHED-TTL:PT1H
BEGIN:VTIMEZONE
TZID:America/New_York
BEGIN:DAYLIGHT
TZOFFSETFROM:-0500
TZOFFSETTO:-0400
TZNAME:EDT
DTSTART:20240310T070000
END:DAYLIGHT
BEGIN:STANDARD
TZOFFSETFROM:-0400
TZOFFSETTO:-0500
TZNAME:EST
DTSTART:20241103T060000
END:STANDARD
BEGIN:DAYLIGHT
TZOFFSETFROM:-0500
TZOFFSETTO:-0400
TZNAME:EDT
DTSTART:20250309T070000
END:DAYLIGHT
BEGIN:STANDARD
TZOFFSETFROM:-0400
TZOFFSETTO:-0500
TZNAME:EST
DTSTART:20251102T060000
END:STANDARD
BEGIN:DAYLIGHT
TZOFFSETFROM:-0500
TZOFFSETTO:-0400
TZNAME:EDT
DTSTART:20260308T070000
END:DAYLIGHT
BEGIN:STANDARD
TZOFFSETFROM:-0400
TZOFFSETTO:-0500
TZNAME:EST
DTSTART:20261101T060000
END:STANDARD
END:VTIMEZONE
BEGIN:VEVENT
DTSTART;TZID=America/New_York:20251012T113000
DTEND;TZID=America/New_York:20251012T130000
DTSTAMP:20260424T012207
CREATED:20250924T173746Z
LAST-MODIFIED:20250924T173746Z
UID:8990-1760268600-1760274000@ourladychapel.org
SUMMARY:"The Chosen" ~ Video & Discussion
DESCRIPTION:After Mass today\, we will be presenting an episode of the television series “The Chosen.”    We will be seated in the Chapel\, and the video will be presented on our screens. \nFollowing the video presentation\, we will gather in the Lennon Boardroom for some refreshments\, and a discussion on the episode.   More information on the particular episode Fr. John has selected will be announced shortly. \nPlease join us for some wonderful spiritual conversation\, and a better understanding of the stories in Scripture.
URL:https://ourladychapel.org/event/the-chosen-video-discussion/
CATEGORIES:Community
ATTACH;FMTTYPE=image/jpeg:https://ourladychapel.org/wp-content/uploads/2021/06/church-09.jpg
END:VEVENT
END:VCALENDAR