BEGIN:VCALENDAR
VERSION:2.0
PRODID:-//Our Lady Chapel - ECPv6.15.20//NONSGML v1.0//EN
CALSCALE:GREGORIAN
METHOD:PUBLISH
X-ORIGINAL-URL:https://ourladychapel.org
X-WR-CALDESC:Events for Our Lady Chapel
REFRESH-INTERVAL;VALUE=DURATION:PT1H
X-Robots-Tag:noindex
X-PUBLISHED-TTL:PT1H
BEGIN:VTIMEZONE
TZID:America/New_York
BEGIN:DAYLIGHT
TZOFFSETFROM:-0500
TZOFFSETTO:-0400
TZNAME:EDT
DTSTART:20250309T070000
END:DAYLIGHT
BEGIN:STANDARD
TZOFFSETFROM:-0400
TZOFFSETTO:-0500
TZNAME:EST
DTSTART:20251102T060000
END:STANDARD
BEGIN:DAYLIGHT
TZOFFSETFROM:-0500
TZOFFSETTO:-0400
TZNAME:EDT
DTSTART:20260308T070000
END:DAYLIGHT
BEGIN:STANDARD
TZOFFSETFROM:-0400
TZOFFSETTO:-0500
TZNAME:EST
DTSTART:20261101T060000
END:STANDARD
BEGIN:DAYLIGHT
TZOFFSETFROM:-0500
TZOFFSETTO:-0400
TZNAME:EDT
DTSTART:20270314T070000
END:DAYLIGHT
BEGIN:STANDARD
TZOFFSETFROM:-0400
TZOFFSETTO:-0500
TZNAME:EST
DTSTART:20271107T060000
END:STANDARD
END:VTIMEZONE
BEGIN:VEVENT
DTSTART;TZID=America/New_York:20260104T113000
DTEND;TZID=America/New_York:20260104T130000
DTSTAMP:20260423T223217
CREATED:20251209T162328Z
LAST-MODIFIED:20251209T162328Z
UID:9622-1767526200-1767531600@ourladychapel.org
SUMMARY:"The Chosen" Episode & Discussion
DESCRIPTION:Join us for another Episode of “The Chosen” television series\, followed by discussion and sharing. \nWe will watch The Chosen Episode on our screens in the Chapel.  The discussion will take place in the Commons.  Refreshments will be provided. \nMore details on the episode we will be viewing will be made available closer to that time.
URL:https://ourladychapel.org/event/the-chosen-episode-discussion/
CATEGORIES:Community
ATTACH;FMTTYPE=image/jpeg:https://ourladychapel.org/wp-content/uploads/2021/06/church-09.jpg
END:VEVENT
END:VCALENDAR