BEGIN:VCALENDAR
VERSION:2.0
PRODID:-//Our Lady Chapel - ECPv6.15.20//NONSGML v1.0//EN
CALSCALE:GREGORIAN
METHOD:PUBLISH
X-WR-CALNAME:Our Lady Chapel
X-ORIGINAL-URL:https://ourladychapel.org
X-WR-CALDESC:Events for Our Lady Chapel
REFRESH-INTERVAL;VALUE=DURATION:PT1H
X-Robots-Tag:noindex
X-PUBLISHED-TTL:PT1H
BEGIN:VTIMEZONE
TZID:America/New_York
BEGIN:DAYLIGHT
TZOFFSETFROM:-0500
TZOFFSETTO:-0400
TZNAME:EDT
DTSTART:20250309T070000
END:DAYLIGHT
BEGIN:STANDARD
TZOFFSETFROM:-0400
TZOFFSETTO:-0500
TZNAME:EST
DTSTART:20251102T060000
END:STANDARD
BEGIN:DAYLIGHT
TZOFFSETFROM:-0500
TZOFFSETTO:-0400
TZNAME:EDT
DTSTART:20260308T070000
END:DAYLIGHT
BEGIN:STANDARD
TZOFFSETFROM:-0400
TZOFFSETTO:-0500
TZNAME:EST
DTSTART:20261101T060000
END:STANDARD
BEGIN:DAYLIGHT
TZOFFSETFROM:-0500
TZOFFSETTO:-0400
TZNAME:EDT
DTSTART:20270314T070000
END:DAYLIGHT
BEGIN:STANDARD
TZOFFSETFROM:-0400
TZOFFSETTO:-0500
TZNAME:EST
DTSTART:20271107T060000
END:STANDARD
END:VTIMEZONE
BEGIN:VEVENT
DTSTART;TZID=America/New_York:20260329T113000
DTEND;TZID=America/New_York:20260329T123000
DTSTAMP:20260423T171432
CREATED:20260219T180812Z
LAST-MODIFIED:20260219T180904Z
UID:10067-1774783800-1774787400@ourladychapel.org
SUMMARY:Young Adult Group - Lenten Series
DESCRIPTION:The Young Adult Group is going to have a Lenten Series.  We will meet each Sunday in Lent\, following the 10 am Mass\, from 11:30 am – 12:30 pm. \nWe will meet every Sunday after Mass for a brief discussion about our week\, and our Lenten goals. We are going to take the time to discuss and to encourage each other.   Please feel free to join us!
URL:https://ourladychapel.org/event/young-adult-group-lenten-series-5/
CATEGORIES:Community
END:VEVENT
BEGIN:VEVENT
DTSTART;TZID=America/New_York:20260329T140000
DTEND;TZID=America/New_York:20260329T163000
DTSTAMP:20260423T171432
CREATED:20251107T183030Z
LAST-MODIFIED:20260327T153009Z
UID:9473-1774792800-1774801800@ourladychapel.org
SUMMARY:Tetelestai Performance
DESCRIPTION:
URL:https://ourladychapel.org/event/tetelestai-performance-2/
CATEGORIES:Community
ATTACH;FMTTYPE=image/png:https://ourladychapel.org/wp-content/uploads/2021/06/community.png
END:VEVENT
END:VCALENDAR