BEGIN:VCALENDAR
VERSION:2.0
PRODID:-//Our Lady Chapel - ECPv6.15.20//NONSGML v1.0//EN
CALSCALE:GREGORIAN
METHOD:PUBLISH
X-WR-CALNAME:Our Lady Chapel
X-ORIGINAL-URL:https://ourladychapel.org
X-WR-CALDESC:Events for Our Lady Chapel
REFRESH-INTERVAL;VALUE=DURATION:PT1H
X-Robots-Tag:noindex
X-PUBLISHED-TTL:PT1H
BEGIN:VTIMEZONE
TZID:America/New_York
BEGIN:DAYLIGHT
TZOFFSETFROM:-0500
TZOFFSETTO:-0400
TZNAME:EDT
DTSTART:20250309T070000
END:DAYLIGHT
BEGIN:STANDARD
TZOFFSETFROM:-0400
TZOFFSETTO:-0500
TZNAME:EST
DTSTART:20251102T060000
END:STANDARD
BEGIN:DAYLIGHT
TZOFFSETFROM:-0500
TZOFFSETTO:-0400
TZNAME:EDT
DTSTART:20260308T070000
END:DAYLIGHT
BEGIN:STANDARD
TZOFFSETFROM:-0400
TZOFFSETTO:-0500
TZNAME:EST
DTSTART:20261101T060000
END:STANDARD
BEGIN:DAYLIGHT
TZOFFSETFROM:-0500
TZOFFSETTO:-0400
TZNAME:EDT
DTSTART:20270314T070000
END:DAYLIGHT
BEGIN:STANDARD
TZOFFSETFROM:-0400
TZOFFSETTO:-0500
TZNAME:EST
DTSTART:20271107T060000
END:STANDARD
END:VTIMEZONE
BEGIN:VEVENT
DTSTART;TZID=America/New_York:20260612T180000
DTEND;TZID=America/New_York:20260612T230000
DTSTAMP:20260423T170756
CREATED:20260304T152005Z
LAST-MODIFIED:20260422T203126Z
UID:10132-1781287200-1781305200@ourladychapel.org
SUMMARY:Captain's Baseball Game & Picnic Dinner
DESCRIPTION:Tonight is our Chapel community’s annual outing to a Lake County Captains Baseball game!   We will have reserved seats\, a Picnic dinner under the pavillion\, and Fireworks after the game! \nIn order to RSVP\, there will be a Sign-Up sheet posted on the easel in the Chapel lobby\, closer to the time.  We will need RSVP’s from those wishing to attend.    You may also call us to RSVP. \nTicket price is $30.  Payment is due in June\, when you pick up your tickets from the Chapel Office. \nPlease call the Chapel office if you have any questions – (440)473-3560 \n 
URL:https://ourladychapel.org/event/captains-baseball-game-picnic-dinner/
CATEGORIES:Community
ATTACH;FMTTYPE=image/jpeg:https://ourladychapel.org/wp-content/uploads/2022/03/Our-Lady-Chapel.jpg
END:VEVENT
END:VCALENDAR