BEGIN:VCALENDAR
VERSION:2.0
PRODID:-//Our Lady Chapel - ECPv6.15.20//NONSGML v1.0//EN
CALSCALE:GREGORIAN
METHOD:PUBLISH
X-WR-CALNAME:Our Lady Chapel
X-ORIGINAL-URL:https://ourladychapel.org
X-WR-CALDESC:Events for Our Lady Chapel
REFRESH-INTERVAL;VALUE=DURATION:PT1H
X-Robots-Tag:noindex
X-PUBLISHED-TTL:PT1H
BEGIN:VTIMEZONE
TZID:America/New_York
BEGIN:DAYLIGHT
TZOFFSETFROM:-0500
TZOFFSETTO:-0400
TZNAME:EDT
DTSTART:20240310T070000
END:DAYLIGHT
BEGIN:STANDARD
TZOFFSETFROM:-0400
TZOFFSETTO:-0500
TZNAME:EST
DTSTART:20241103T060000
END:STANDARD
BEGIN:DAYLIGHT
TZOFFSETFROM:-0500
TZOFFSETTO:-0400
TZNAME:EDT
DTSTART:20250309T070000
END:DAYLIGHT
BEGIN:STANDARD
TZOFFSETFROM:-0400
TZOFFSETTO:-0500
TZNAME:EST
DTSTART:20251102T060000
END:STANDARD
BEGIN:DAYLIGHT
TZOFFSETFROM:-0500
TZOFFSETTO:-0400
TZNAME:EDT
DTSTART:20260308T070000
END:DAYLIGHT
BEGIN:STANDARD
TZOFFSETFROM:-0400
TZOFFSETTO:-0500
TZNAME:EST
DTSTART:20261101T060000
END:STANDARD
BEGIN:DAYLIGHT
TZOFFSETFROM:-0500
TZOFFSETTO:-0400
TZNAME:EDT
DTSTART:20270314T070000
END:DAYLIGHT
BEGIN:STANDARD
TZOFFSETFROM:-0400
TZOFFSETTO:-0500
TZNAME:EST
DTSTART:20271107T060000
END:STANDARD
END:VTIMEZONE
BEGIN:VEVENT
DTSTART;TZID=America/New_York:20260315T113000
DTEND;TZID=America/New_York:20260315T123000
DTSTAMP:20260423T170659
CREATED:20260219T164339Z
LAST-MODIFIED:20260219T164339Z
UID:10053-1773574200-1773577800@ourladychapel.org
SUMMARY:Young Adult Group - Lenten Series
DESCRIPTION:The Young Adult Group is going to have a Lenten Series.  We will meet each Sunday in Lent\, following the 10 am Mass\, from 11:30 am – 12:30 pm. \nWe will meet every week after Mass for a brief discussion about our week\, and our Lenten goals. We are going to take the time to discuss and to encourage each other.   Please feel free to join us!
URL:https://ourladychapel.org/event/young-adult-group-lenten-series-4/
CATEGORIES:Community
END:VEVENT
BEGIN:VEVENT
DTSTART;TZID=America/New_York:20260311T183000
DTEND;TZID=America/New_York:20260311T200000
DTSTAMP:20260423T170659
CREATED:20260310T184158Z
LAST-MODIFIED:20260310T184410Z
UID:10173-1773253800-1773259200@ourladychapel.org
SUMMARY:Virtual Bible Study: The Cross - Death & Resurrection
DESCRIPTION:Virtual Bible Study normally meets every other Wednesday via zoom\, from 6:30 – 8:00 pm. \nPlease emaill Fr. John [blazekj@gilmour.org ] to receive the zoom link and materials for the topic of discussion.
URL:https://ourladychapel.org/event/virtual-bible-study-the-cross-death-resurrection-2/
CATEGORIES:Community
ATTACH;FMTTYPE=image/png:https://ourladychapel.org/wp-content/uploads/2021/06/bible-study.png
END:VEVENT
BEGIN:VEVENT
DTSTART;TZID=America/New_York:20260308T113000
DTEND;TZID=America/New_York:20260308T123000
DTSTAMP:20260423T170659
CREATED:20260219T164237Z
LAST-MODIFIED:20260219T164237Z
UID:10051-1772969400-1772973000@ourladychapel.org
SUMMARY:Young Adult Group - Lenten Series
DESCRIPTION:The Young Adult Group is going to have a Lenten Series.  We will meet each Sunday in Lent\, following the 10 am Mass\, from 11:30 am – 12:30 pm. \nWe will meet every week after Mass for a brief discussion about our week\, and our Lenten goals. We are going to take the time to discuss and to encourage each other.   Please feel free to join us!
URL:https://ourladychapel.org/event/young-adult-group-lenten-series-3/
CATEGORIES:Community
END:VEVENT
BEGIN:VEVENT
DTSTART;TZID=America/New_York:20260301T113000
DTEND;TZID=America/New_York:20260301T130000
DTSTAMP:20260423T170659
CREATED:20260219T164433Z
LAST-MODIFIED:20260219T164640Z
UID:10055-1772364600-1772370000@ourladychapel.org
SUMMARY:"The Chosen" episode & discussion
DESCRIPTION:Join us for another Episode of “The Chosen” series\, followed by discussion and sharing. \nWe will watch The Chosen Episode on our screens in the Chapel.   And our discussion will take place in the Commons.  Refreshments will be provided. \nMore details on the episode we will be viewing will be made available closer to that time.
URL:https://ourladychapel.org/event/the-chosen-episode-discussion-3/
CATEGORIES:Community
ATTACH;FMTTYPE=image/jpeg:https://ourladychapel.org/wp-content/uploads/2021/06/church-09.jpg
END:VEVENT
BEGIN:VEVENT
DTSTART;TZID=America/New_York:20260301T113000
DTEND;TZID=America/New_York:20260301T130000
DTSTAMP:20260423T170659
CREATED:20260219T164113Z
LAST-MODIFIED:20260219T165403Z
UID:10049-1772364600-1772370000@ourladychapel.org
SUMMARY:Young Adult Group - "The Chosen" and our Lenten Series
DESCRIPTION:Today the Young Adult Group will be participating in the presentation of “The Chosen” episode in Our Lady Chapel\, following Mass.  After viewing the episode\, we will gather for discussion in the Commons.  Refreshments will be provided. \nWe will also take time today to continue our “Lenten Series”\, and meet breifly to discuss our week\, and our Lenten goals.   \nWe will continue to meet for our Lenten Series\, every Sunday in Lent\, following the 10 am Mass\, from 11:30 am – 12:30 pm.  We will meet briefly to discuss our week\, and our Lenten goals\, and take the time to support and to encourage each other.   Please feel free to join us!
URL:https://ourladychapel.org/event/young-adult-group-lenten-series-2/
CATEGORIES:Community
END:VEVENT
BEGIN:VEVENT
DTSTART;TZID=America/New_York:20260222T113000
DTEND;TZID=America/New_York:20260222T130000
DTSTAMP:20260423T170659
CREATED:20260219T163925Z
LAST-MODIFIED:20260219T175647Z
UID:10047-1771759800-1771765200@ourladychapel.org
SUMMARY:Young Adult Group - Lenten Series
DESCRIPTION:The Young Adult Group is going to have a Lenten Series.  We will meet each Sunday in Lent\, following the 10 am Mass\, beginning this Sunday\, February 22nd\, from 11:30 am – 12:30 pm. \nWe will meet every week after Mass for a brief discussion about our week\, and our Lenten goals. We are going to take the time to discuss and to encourage each other.   Please feel free to join us!
URL:https://ourladychapel.org/event/young-adult-group-lenten-series/
CATEGORIES:Community
END:VEVENT
BEGIN:VEVENT
DTSTART;TZID=America/New_York:20260215T111500
DTEND;TZID=America/New_York:20260215T131500
DTSTAMP:20260423T170659
CREATED:20251230T164708Z
LAST-MODIFIED:20251230T173704Z
UID:9756-1771154100-1771161300@ourladychapel.org
SUMMARY:Chapel Indoor Picnic
DESCRIPTION:
URL:https://ourladychapel.org/event/chapel-indoor-picnic/
CATEGORIES:Community
ATTACH;FMTTYPE=image/jpeg:https://ourladychapel.org/wp-content/uploads/2021/12/Chapel-in-Snow.jpg
END:VEVENT
BEGIN:VEVENT
DTSTART;TZID=America/New_York:20260208T113000
DTEND;TZID=America/New_York:20260208T133000
DTSTAMP:20260423T170659
CREATED:20260205T195847Z
LAST-MODIFIED:20260205T195847Z
UID:9983-1770550200-1770557400@ourladychapel.org
SUMMARY:Young Adult Group - "The Chosen\," followed by a group meeting & activity
DESCRIPTION:This Sunday\, the Young Adult Group will stay after Mass for the viewing of “The Chosen” episode that will be shown.  They will join the discussion group in the Commons afterwards. \nThen the Young Adult Group will break off and have their own meeting and activity.   Plan to join! \n\,
URL:https://ourladychapel.org/event/young-adult-group-the-chosen-followed-by-a-group-meeting-activity/
CATEGORIES:Community
ATTACH;FMTTYPE=image/jpeg:https://ourladychapel.org/wp-content/uploads/2021/06/church-09.jpg
END:VEVENT
BEGIN:VEVENT
DTSTART;TZID=America/New_York:20260208T113000
DTEND;TZID=America/New_York:20260208T130000
DTSTAMP:20260423T170659
CREATED:20260112T175032Z
LAST-MODIFIED:20260112T180037Z
UID:9852-1770550200-1770555600@ourladychapel.org
SUMMARY:"The Chosen" Episode & Discussion
DESCRIPTION:Join us for another Episode of “The Chosen” television series\, followed by discussion and sharing. \nWe will watch The Chosen Episode on our screens in the Chapel.  The discussion will take place in the Commons.  Refreshments will be provided. \nMore details on the episode we will be viewing will be made available closer to that time.
URL:https://ourladychapel.org/event/the-chosen-episode-discussion-2/
CATEGORIES:Community
ATTACH;FMTTYPE=image/jpeg:https://ourladychapel.org/wp-content/uploads/2021/06/church-09.jpg
END:VEVENT
BEGIN:VEVENT
DTSTART;TZID=America/New_York:20260129T083000
DTEND;TZID=America/New_York:20260129T093000
DTSTAMP:20260423T170659
CREATED:20260128T181054Z
LAST-MODIFIED:20260128T181249Z
UID:9913-1769675400-1769679000@ourladychapel.org
SUMMARY:Visitation for Br. Robert Lavelle
DESCRIPTION:You will have an opportunity to pay your respects to Br. Robert Lavelle at a special wake service in Our Lady Chapel on Thursday morning\, January 29th\, from 8:30 – 9:30 am.
URL:https://ourladychapel.org/event/visitation-for-br-robert-lavelle/
CATEGORIES:Community
ATTACH;FMTTYPE=image/png:https://ourladychapel.org/wp-content/uploads/2021/06/community.png
END:VEVENT
BEGIN:VEVENT
DTSTART;TZID=America/New_York:20260110T181500
DTEND;TZID=America/New_York:20260110T203000
DTSTAMP:20260423T170659
CREATED:20251222T152122Z
LAST-MODIFIED:20251230T163740Z
UID:9714-1768068900-1768077000@ourladychapel.org
SUMMARY:Chapel Game Night
DESCRIPTION:Our Lady Chapel is bringing back our Game Night!   Our Young Adult Group\, as well as all adult members of Our Lady Chapel community – are invited to attend.   Please bring your favorite game with you!  We also invite you to bring your favorite snack to share! \nPlease RSVP for our Game Night!   Sign up on the easel in the Chapel narthex\, or contact the Chapel office – 440-473-3560.  Or via email:  szaniszlop@gilmour.org
URL:https://ourladychapel.org/event/chapel-game-night/
CATEGORIES:Community
ATTACH;FMTTYPE=image/jpeg:https://ourladychapel.org/wp-content/uploads/2021/12/Chapel-in-Snow.jpg
END:VEVENT
BEGIN:VEVENT
DTSTART;TZID=America/New_York:20260104T113000
DTEND;TZID=America/New_York:20260104T130000
DTSTAMP:20260423T170659
CREATED:20251209T162328Z
LAST-MODIFIED:20251209T162328Z
UID:9622-1767526200-1767531600@ourladychapel.org
SUMMARY:"The Chosen" Episode & Discussion
DESCRIPTION:Join us for another Episode of “The Chosen” television series\, followed by discussion and sharing. \nWe will watch The Chosen Episode on our screens in the Chapel.  The discussion will take place in the Commons.  Refreshments will be provided. \nMore details on the episode we will be viewing will be made available closer to that time.
URL:https://ourladychapel.org/event/the-chosen-episode-discussion/
CATEGORIES:Community
ATTACH;FMTTYPE=image/jpeg:https://ourladychapel.org/wp-content/uploads/2021/06/church-09.jpg
END:VEVENT
BEGIN:VEVENT
DTSTART;TZID=America/New_York:20251215T190000
DTEND;TZID=America/New_York:20251215T200000
DTSTAMP:20260423T170659
CREATED:20251201T202517Z
LAST-MODIFIED:20251201T202626Z
UID:9589-1765825200-1765828800@ourladychapel.org
SUMMARY:Advent Communal Penance Service
DESCRIPTION:Our service includes scriptural reflections\, songs & hymns\, and an examination of conscience. \nOur service will be followed by individual reception of the Sacrament of Reconciliation\, for those who wish to participate.
URL:https://ourladychapel.org/event/advent-communal-penance-service/
CATEGORIES:Community
ATTACH;FMTTYPE=image/png:https://ourladychapel.org/wp-content/uploads/2021/06/community.png
END:VEVENT
BEGIN:VEVENT
DTSTART;TZID=America/New_York:20251130T113000
DTEND;TZID=America/New_York:20251130T130000
DTSTAMP:20260423T170659
CREATED:20251106T195913Z
LAST-MODIFIED:20251106T202251Z
UID:9390-1764502200-1764507600@ourladychapel.org
SUMMARY:Advent Wreath-Making Activity
DESCRIPTION:It is time for our annual Advent Wreath-Making event!    \nPlease sign up to reserve your Wreath Kit\, so that you can make your family’s Advent Wreath with us on the First Sunday of Advent\, Sunday\, November 30th\, after our 10 am Mass.   Please add your name to the Sign-Up Sheet on the easel in the Chapel Narthex\, or call or email Patty in the Chapel Office [440-473-3560 or szaniszlop@gilmour.org ] to reserve your Wreath Kit! \nAfter Mass\, we will meet in the Lennon Boardroom.  Instructions will be provided\, as we are guided through how to put our wreaths together.  Once completed\, Fr. John will provide a special Advent Prayer & Blessing over our Wreaths! \nWreath Kits are $25\, and include everything you need to make your wreath\, including real pine greens and a set of 4 Advent Candles!  Payment is not required until November 30th\, when you receive your wreath kit. \nPlease consider having your family sign up for this wonderful Advent Activity! \n 
URL:https://ourladychapel.org/event/advent-wreath-making-activity/
CATEGORIES:Community
ATTACH;FMTTYPE=image/jpeg:https://ourladychapel.org/wp-content/uploads/2025/11/Advent-Wreath.jpg
END:VEVENT
BEGIN:VEVENT
DTSTART;TZID=America/New_York:20251116T113000
DTEND;TZID=America/New_York:20251116T130000
DTSTAMP:20260423T170659
CREATED:20251016T200526Z
LAST-MODIFIED:20251016T200652Z
UID:9279-1763292600-1763298000@ourladychapel.org
SUMMARY:"The Chosen" - Video & Discussion
DESCRIPTION:After Mass today\, we will be presenting another episode of the series “The Chosen.”    Our presentation will be on the screens in our Chapel.   We will take a brief break following Mass\, and will begin at about 11:30 am.    \nToday’s episode will be Part II of the episode we viewed in October. \nFollowing the video presentation\, we will gather in the Commons for some refreshments\, and a discussion on the episode.    \nPlease join us for some wonderful spiritual conversation\, and a better understanding of the stories of Scripture.
URL:https://ourladychapel.org/event/the-chosen-video-discussion-3/
CATEGORIES:Community
ATTACH;FMTTYPE=image/jpeg:https://ourladychapel.org/wp-content/uploads/2021/06/church-09.jpg
END:VEVENT
BEGIN:VEVENT
DTSTART;TZID=America/New_York:20251106T180000
DTEND;TZID=America/New_York:20251106T203000
DTSTAMP:20260423T170659
CREATED:20250930T161806Z
LAST-MODIFIED:20251002T202425Z
UID:9103-1762452000-1762461000@ourladychapel.org
SUMMARY:Men's Fall Retreat
DESCRIPTION:All men of Our Lady Chapel & Gilmour\, and their friends\, are welcome to join us for our annual Fall Retreat! \nOur Retreat will begin with Mass at 6:00 pm.   Then we will move across the hall to the Lennon Boardroom for a light supper\, and spiritual discussion\, led by Fr. John.   Our gathering should conclude by 8:15 – 8:30 pm. \nEven if you can’t make it for the Mass\, join us whenever you can!   There is no cost for the evening\, but we will accept free will offerings. \nPlease remember to RSVP!   There will be a sign-up sheet on the easel in the narthex of the Chapel beginning this weekend.  Or you may call the Chapel Office [440-473-3560]  or email Patty in the Chapel Office at: szaniszlop@gilmour.org
URL:https://ourladychapel.org/event/mens-fall-retreat/
CATEGORIES:Community
ATTACH;FMTTYPE=image/jpeg:https://ourladychapel.org/wp-content/uploads/2022/03/Our-Lady-Chapel.jpg
END:VEVENT
BEGIN:VEVENT
DTSTART;TZID=America/New_York:20251028T180000
DTEND;TZID=America/New_York:20251028T203000
DTSTAMP:20260423T170659
CREATED:20250907T140210Z
LAST-MODIFIED:20251002T202324Z
UID:8898-1761674400-1761683400@ourladychapel.org
SUMMARY:Women's Fall Retreat
DESCRIPTION:Save the Date!   Our annual fall Women’s Retreat will be on Tuesday evening\, October 28th.    \nAll women of Our Lady Chapel and Gilmour Academy\, and their guests\, are welcome. We will begin with Mass together in the Chapel\, and then move across the hall to the Lennon Boardroom for a light supper\, and spiritual discussion\, led by Father John. There is no cost for the evening\, but we will accept free will donations to offset the cost of our food service.  [If you can’t make it for Mass\, come anyway when you can.]  It will be a wonderful evening of spiritual renewal. \nSo mark the date on your calendars and give yourself a treat in the Lord.  Sign up on the retreat sheet which is located on the easel in the narthex of the Chapel\, or call [440-473-3560] or email: szaniszlop@gilmour.org.
URL:https://ourladychapel.org/event/womens-fall-retreat-2/
CATEGORIES:Community
ATTACH;FMTTYPE=image/jpeg:https://ourladychapel.org/wp-content/uploads/2022/03/Our-Lady-Chapel.jpg
END:VEVENT
BEGIN:VEVENT
DTSTART;TZID=America/New_York:20251012T113000
DTEND;TZID=America/New_York:20251012T130000
DTSTAMP:20260423T170659
CREATED:20250924T173746Z
LAST-MODIFIED:20250924T173746Z
UID:8990-1760268600-1760274000@ourladychapel.org
SUMMARY:"The Chosen" ~ Video & Discussion
DESCRIPTION:After Mass today\, we will be presenting an episode of the television series “The Chosen.”    We will be seated in the Chapel\, and the video will be presented on our screens. \nFollowing the video presentation\, we will gather in the Lennon Boardroom for some refreshments\, and a discussion on the episode.   More information on the particular episode Fr. John has selected will be announced shortly. \nPlease join us for some wonderful spiritual conversation\, and a better understanding of the stories in Scripture.
URL:https://ourladychapel.org/event/the-chosen-video-discussion/
CATEGORIES:Community
ATTACH;FMTTYPE=image/jpeg:https://ourladychapel.org/wp-content/uploads/2021/06/church-09.jpg
END:VEVENT
BEGIN:VEVENT
DTSTART;TZID=America/New_York:20251005T113000
DTEND;TZID=America/New_York:20251005T130000
DTSTAMP:20260423T170659
CREATED:20250725T181123Z
LAST-MODIFIED:20251002T202529Z
UID:8657-1759663800-1759669200@ourladychapel.org
SUMMARY:Pet Blessing\, plus Donuts & Coffee
DESCRIPTION:Please join us today after Mass for two special events\, from 11:30 am – 1:00 pm. \nWe will be offering Coffee & Donuts today after Mass in the Gilmour Commons. \nAlso after Mass today\, we will have our annual Pet Blessing.   In honor of the Feast of St. Francis\, Fr. John will be available to bless your pet.  This will take place outside the Chapel\, in the brick circle.   If you cannot bring your pet\, you may bring a picture of your pet for a blessing.  If it rains\, we will postpone this event to the following Sunday\, October 12. \nWe hope you will join us!
URL:https://ourladychapel.org/event/pet-blessing-plus-donuts-coffee/
CATEGORIES:Community
ATTACH;FMTTYPE=image/jpeg:https://ourladychapel.org/wp-content/uploads/2022/03/Our-Lady-Chapel.jpg
END:VEVENT
BEGIN:VEVENT
DTSTART;TZID=America/New_York:20250928T113000
DTEND;TZID=America/New_York:20250928T140000
DTSTAMP:20260423T170659
CREATED:20250924T172025Z
LAST-MODIFIED:20250924T172205Z
UID:8986-1759059000-1759068000@ourladychapel.org
SUMMARY:Young Adult Group ~ Apple-picking at Patterson's Fruit Farm
DESCRIPTION:The Young Adult Group is going out to Patterson’s Fruit Farm in Chesterland to pick apples after Mass this Sunday.  Please reach out to members of the group for more details\, or contact the Chapel Office.
URL:https://ourladychapel.org/event/young-adult-group-apple-picking-at-pattersons-fruit-farm/
CATEGORIES:Community
ATTACH;FMTTYPE=image/png:https://ourladychapel.org/wp-content/uploads/2021/02/Fall-colors.png
END:VEVENT
BEGIN:VEVENT
DTSTART;TZID=America/New_York:20250914T113000
DTEND;TZID=America/New_York:20250914T153000
DTSTAMP:20260423T170659
CREATED:20250902T202840Z
LAST-MODIFIED:20250902T202840Z
UID:8856-1757849400-1757863800@ourladychapel.org
SUMMARY:Pilgrimage to the Cathedral of St. John the Evangelist in Downtown Cleveland
DESCRIPTION:Our Lady Chapel is planning a Pilgrimage to the Cathedral Downtown\, in observance of the Jubilee Year of Hope declared by Pope Francis last December.   Van transportation will be provided by Gilmour. \nA Jubilee year is a special year of grace\, in which the Church offfers the faithful the opportunity to obtain a pleanary indulgence.   The Cathedral has been designated as a “Sacred Site” where one may obtain the indulgence for their visit. \nPlease sign up on the easel in the lobby of the Chapel\, or contact the Chapel Office\, or send Patty an email at: szaniszlop@gilmour.org \nWe will meet in the Commons following Mass for Coffee & Donuts\, before departing on our journey.
URL:https://ourladychapel.org/event/pilgrimage-to-the-cathedral-of-st-john-the-evangelist-in-downtown-cleveland/
CATEGORIES:Community
ATTACH;FMTTYPE=image/png:https://ourladychapel.org/wp-content/uploads/2021/06/community.png
END:VEVENT
END:VCALENDAR