BEGIN:VCALENDAR
VERSION:2.0
PRODID:-//Our Lady Chapel - ECPv6.15.20//NONSGML v1.0//EN
CALSCALE:GREGORIAN
METHOD:PUBLISH
X-WR-CALNAME:Our Lady Chapel
X-ORIGINAL-URL:https://ourladychapel.org
X-WR-CALDESC:Events for Our Lady Chapel
REFRESH-INTERVAL;VALUE=DURATION:PT1H
X-Robots-Tag:noindex
X-PUBLISHED-TTL:PT1H
BEGIN:VTIMEZONE
TZID:America/New_York
BEGIN:DAYLIGHT
TZOFFSETFROM:-0500
TZOFFSETTO:-0400
TZNAME:EDT
DTSTART:20250309T070000
END:DAYLIGHT
BEGIN:STANDARD
TZOFFSETFROM:-0400
TZOFFSETTO:-0500
TZNAME:EST
DTSTART:20251102T060000
END:STANDARD
BEGIN:DAYLIGHT
TZOFFSETFROM:-0500
TZOFFSETTO:-0400
TZNAME:EDT
DTSTART:20260308T070000
END:DAYLIGHT
BEGIN:STANDARD
TZOFFSETFROM:-0400
TZOFFSETTO:-0500
TZNAME:EST
DTSTART:20261101T060000
END:STANDARD
BEGIN:DAYLIGHT
TZOFFSETFROM:-0500
TZOFFSETTO:-0400
TZNAME:EDT
DTSTART:20270314T070000
END:DAYLIGHT
BEGIN:STANDARD
TZOFFSETFROM:-0400
TZOFFSETTO:-0500
TZNAME:EST
DTSTART:20271107T060000
END:STANDARD
END:VTIMEZONE
BEGIN:VEVENT
DTSTART;TZID=America/New_York:20260503T084500
DTEND;TZID=America/New_York:20260503T094500
DTSTAMP:20260423T171900
CREATED:20251230T190421Z
LAST-MODIFIED:20251230T193324Z
UID:9789-1777797900-1777801500@ourladychapel.org
SUMMARY:Faith Education Class - final class meeting
DESCRIPTION:
URL:https://ourladychapel.org/event/faith-education-class-3/
CATEGORIES:Faith Education
ATTACH;FMTTYPE=image/jpeg:https://ourladychapel.org/wp-content/uploads/2021/02/Fall-Cross.jpg
END:VEVENT
END:VCALENDAR