BEGIN:VCALENDAR
VERSION:2.0
PRODID:-//Our Lady Chapel - ECPv6.15.20//NONSGML v1.0//EN
CALSCALE:GREGORIAN
METHOD:PUBLISH
X-ORIGINAL-URL:https://ourladychapel.org
X-WR-CALDESC:Events for Our Lady Chapel
REFRESH-INTERVAL;VALUE=DURATION:PT1H
X-Robots-Tag:noindex
X-PUBLISHED-TTL:PT1H
BEGIN:VTIMEZONE
TZID:America/New_York
BEGIN:DAYLIGHT
TZOFFSETFROM:-0500
TZOFFSETTO:-0400
TZNAME:EDT
DTSTART:20240310T070000
END:DAYLIGHT
BEGIN:STANDARD
TZOFFSETFROM:-0400
TZOFFSETTO:-0500
TZNAME:EST
DTSTART:20241103T060000
END:STANDARD
BEGIN:DAYLIGHT
TZOFFSETFROM:-0500
TZOFFSETTO:-0400
TZNAME:EDT
DTSTART:20250309T070000
END:DAYLIGHT
BEGIN:STANDARD
TZOFFSETFROM:-0400
TZOFFSETTO:-0500
TZNAME:EST
DTSTART:20251102T060000
END:STANDARD
BEGIN:DAYLIGHT
TZOFFSETFROM:-0500
TZOFFSETTO:-0400
TZNAME:EDT
DTSTART:20260308T070000
END:DAYLIGHT
BEGIN:STANDARD
TZOFFSETFROM:-0400
TZOFFSETTO:-0500
TZNAME:EST
DTSTART:20261101T060000
END:STANDARD
BEGIN:DAYLIGHT
TZOFFSETFROM:-0500
TZOFFSETTO:-0400
TZNAME:EDT
DTSTART:20270314T070000
END:DAYLIGHT
BEGIN:STANDARD
TZOFFSETFROM:-0400
TZOFFSETTO:-0500
TZNAME:EST
DTSTART:20271107T060000
END:STANDARD
END:VTIMEZONE
BEGIN:VEVENT
DTSTART;TZID=America/New_York:20260419T084500
DTEND;TZID=America/New_York:20260419T094500
DTSTAMP:20260423T155122
CREATED:20251230T184610Z
LAST-MODIFIED:20251230T184610Z
UID:9777-1776588300-1776591900@ourladychapel.org
SUMMARY:Faith Education Class
DESCRIPTION:
URL:https://ourladychapel.org/event/faith-education-class-2/
CATEGORIES:Faith Education
ATTACH;FMTTYPE=image/jpeg:https://ourladychapel.org/wp-content/uploads/2021/02/Fall-Cross.jpg
END:VEVENT
BEGIN:VEVENT
DTSTART;TZID=America/New_York:20260412T084500
DTEND;TZID=America/New_York:20260412T094500
DTSTAMP:20260423T155122
CREATED:20251230T184337Z
LAST-MODIFIED:20251230T184337Z
UID:9775-1775983500-1775987100@ourladychapel.org
SUMMARY:Faith Education Class
DESCRIPTION:
URL:https://ourladychapel.org/event/faith-education-class/
CATEGORIES:Faith Education
ATTACH;FMTTYPE=image/jpeg:https://ourladychapel.org/wp-content/uploads/2021/02/Fall-Cross.jpg
END:VEVENT
BEGIN:VEVENT
DTSTART;TZID=America/New_York:20260329T084500
DTEND;TZID=America/New_York:20260329T094500
DTSTAMP:20260423T155122
CREATED:20251107T182503Z
LAST-MODIFIED:20251107T182503Z
UID:9469-1774773900-1774777500@ourladychapel.org
SUMMARY:Faith Education Classes
DESCRIPTION:
URL:https://ourladychapel.org/event/faith-education-classes-2/
CATEGORIES:Faith Education
ATTACH;FMTTYPE=image/jpeg:https://ourladychapel.org/wp-content/uploads/2021/02/Fall-Cross.jpg
END:VEVENT
BEGIN:VEVENT
DTSTART;TZID=America/New_York:20260301T084500
DTEND;TZID=America/New_York:20260301T094500
DTSTAMP:20260423T155122
CREATED:20251107T172243Z
LAST-MODIFIED:20251107T172243Z
UID:9448-1772354700-1772358300@ourladychapel.org
SUMMARY:Faith Education
DESCRIPTION:
URL:https://ourladychapel.org/event/faith-education-2/
CATEGORIES:Faith Education
ATTACH;FMTTYPE=image/jpeg:https://ourladychapel.org/wp-content/uploads/2021/02/Fall-Cross.jpg
END:VEVENT
BEGIN:VEVENT
DTSTART;TZID=America/New_York:20260222T084500
DTEND;TZID=America/New_York:20260222T094500
DTSTAMP:20260423T155122
CREATED:20251107T171830Z
LAST-MODIFIED:20251107T171830Z
UID:9442-1771749900-1771753500@ourladychapel.org
SUMMARY:Faith Education
DESCRIPTION:
URL:https://ourladychapel.org/event/faith-education/
CATEGORIES:Faith Education
ATTACH;FMTTYPE=image/jpeg:https://ourladychapel.org/wp-content/uploads/2021/02/Fall-Cross.jpg
END:VEVENT
BEGIN:VEVENT
DTSTART;TZID=America/New_York:20260208T084500
DTEND;TZID=America/New_York:20260208T094500
DTSTAMP:20260423T155122
CREATED:20251013T202139Z
LAST-MODIFIED:20251013T202139Z
UID:9209-1770540300-1770543900@ourladychapel.org
SUMMARY:Faith Education Class
DESCRIPTION:
URL:https://ourladychapel.org/event/faith-education-class-20/
CATEGORIES:Faith Education
ATTACH;FMTTYPE=image/jpeg:https://ourladychapel.org/wp-content/uploads/2021/02/Fall-Cross.jpg
END:VEVENT
BEGIN:VEVENT
DTSTART;TZID=America/New_York:20260201T084500
DTEND;TZID=America/New_York:20260201T094500
DTSTAMP:20260423T155122
CREATED:20251013T201259Z
LAST-MODIFIED:20251013T201259Z
UID:9200-1769935500-1769939100@ourladychapel.org
SUMMARY:Faith Education Class
DESCRIPTION:
URL:https://ourladychapel.org/event/faith-education-class-17/
CATEGORIES:Faith Education
ATTACH;FMTTYPE=image/jpeg:https://ourladychapel.org/wp-content/uploads/2021/02/Fall-Cross.jpg
END:VEVENT
BEGIN:VEVENT
DTSTART;TZID=America/New_York:20260125T084500
DTEND;TZID=America/New_York:20260125T094500
DTSTAMP:20260423T155122
CREATED:20251013T201521Z
LAST-MODIFIED:20251013T201521Z
UID:9202-1769330700-1769334300@ourladychapel.org
SUMMARY:Faith Education Class
DESCRIPTION:
URL:https://ourladychapel.org/event/faith-education-class-19/
CATEGORIES:Faith Education
ATTACH;FMTTYPE=image/jpeg:https://ourladychapel.org/wp-content/uploads/2021/02/Fall-Cross.jpg
END:VEVENT
BEGIN:VEVENT
DTSTART;TZID=America/New_York:20260111T084500
DTEND;TZID=America/New_York:20260111T094500
DTSTAMP:20260423T155122
CREATED:20250924T162249Z
LAST-MODIFIED:20250924T162249Z
UID:8967-1768121100-1768124700@ourladychapel.org
SUMMARY:Faith Education class meets today
DESCRIPTION:
URL:https://ourladychapel.org/event/faith-education-class-meets-today-9/
CATEGORIES:Faith Education
ATTACH;FMTTYPE=image/jpeg:https://ourladychapel.org/wp-content/uploads/2021/02/Fall-Cross.jpg
END:VEVENT
BEGIN:VEVENT
DTSTART;TZID=America/New_York:20251214T084500
DTEND;TZID=America/New_York:20251214T094500
DTSTAMP:20260423T155122
CREATED:20250924T162133Z
LAST-MODIFIED:20250924T162133Z
UID:8965-1765701900-1765705500@ourladychapel.org
SUMMARY:Faith Education class meets today
DESCRIPTION:
URL:https://ourladychapel.org/event/faith-education-class-meets-today-8/
CATEGORIES:Faith Education
ATTACH;FMTTYPE=image/jpeg:https://ourladychapel.org/wp-content/uploads/2021/02/Fall-Cross.jpg
END:VEVENT
BEGIN:VEVENT
DTSTART;TZID=America/New_York:20251207T084500
DTEND;TZID=America/New_York:20251207T094500
DTSTAMP:20260423T155122
CREATED:20250924T180213Z
LAST-MODIFIED:20250924T180213Z
UID:9014-1765097100-1765100700@ourladychapel.org
SUMMARY:Faith Education class meets today
DESCRIPTION:
URL:https://ourladychapel.org/event/faith-education-class-meets-today-10/
CATEGORIES:Faith Education
ATTACH;FMTTYPE=image/jpeg:https://ourladychapel.org/wp-content/uploads/2021/02/Fall-Cross.jpg
END:VEVENT
BEGIN:VEVENT
DTSTART;TZID=America/New_York:20251116T084500
DTEND;TZID=America/New_York:20251116T084500
DTSTAMP:20260423T155122
CREATED:20250924T161845Z
LAST-MODIFIED:20250924T161845Z
UID:8961-1763282700-1763282700@ourladychapel.org
SUMMARY:Faith Education Class meets today
DESCRIPTION:
URL:https://ourladychapel.org/event/faith-education-class-meets-today-6/
CATEGORIES:Faith Education
ATTACH;FMTTYPE=image/jpeg:https://ourladychapel.org/wp-content/uploads/2021/02/Fall-Cross.jpg
END:VEVENT
BEGIN:VEVENT
DTSTART;TZID=America/New_York:20251109T084500
DTEND;TZID=America/New_York:20251109T094500
DTSTAMP:20260423T155122
CREATED:20250924T161730Z
LAST-MODIFIED:20250924T161730Z
UID:8959-1762677900-1762681500@ourladychapel.org
SUMMARY:Faith Education class meets today
DESCRIPTION:
URL:https://ourladychapel.org/event/faith-education-class-meets-today-5/
CATEGORIES:Faith Education
ATTACH;FMTTYPE=image/jpeg:https://ourladychapel.org/wp-content/uploads/2021/02/Fall-Cross.jpg
END:VEVENT
BEGIN:VEVENT
DTSTART;TZID=America/New_York:20251102T084500
DTEND;TZID=America/New_York:20251102T094500
DTSTAMP:20260423T155122
CREATED:20250924T161540Z
LAST-MODIFIED:20250924T161629Z
UID:8957-1762073100-1762076700@ourladychapel.org
SUMMARY:Faith Education class meets today
DESCRIPTION:
URL:https://ourladychapel.org/event/faith-education-class-meets-today-4/
CATEGORIES:Faith Education
ATTACH;FMTTYPE=image/jpeg:https://ourladychapel.org/wp-content/uploads/2021/02/Fall-Cross.jpg
END:VEVENT
BEGIN:VEVENT
DTSTART;TZID=America/New_York:20251026T084500
DTEND;TZID=America/New_York:20251026T094500
DTSTAMP:20260423T155122
CREATED:20250924T161432Z
LAST-MODIFIED:20250924T161432Z
UID:8955-1761468300-1761471900@ourladychapel.org
SUMMARY:Faith Education Class meets today
DESCRIPTION:
URL:https://ourladychapel.org/event/faith-education-class-meets-today-3/
CATEGORIES:Faith Education
ATTACH;FMTTYPE=image/jpeg:https://ourladychapel.org/wp-content/uploads/2021/02/Fall-Cross.jpg
END:VEVENT
BEGIN:VEVENT
DTSTART;TZID=America/New_York:20251012T084500
DTEND;TZID=America/New_York:20251012T094500
DTSTAMP:20260423T155122
CREATED:20250924T161256Z
LAST-MODIFIED:20250924T161322Z
UID:8953-1760258700-1760262300@ourladychapel.org
SUMMARY:Faith Education class meets today
DESCRIPTION:
URL:https://ourladychapel.org/event/faith-education-class-meets-today-2/
CATEGORIES:Faith Education
ATTACH;FMTTYPE=image/jpeg:https://ourladychapel.org/wp-content/uploads/2021/02/Fall-Cross.jpg
END:VEVENT
BEGIN:VEVENT
DTSTART;TZID=America/New_York:20250928T084500
DTEND;TZID=America/New_York:20250928T094500
DTSTAMP:20260423T155122
CREATED:20250924T160706Z
LAST-MODIFIED:20250924T160706Z
UID:8951-1759049100-1759052700@ourladychapel.org
SUMMARY:Faith Education Class meets today
DESCRIPTION:
URL:https://ourladychapel.org/event/faith-education-class-meets-today/
CATEGORIES:Faith Education
ATTACH;FMTTYPE=image/jpeg:https://ourladychapel.org/wp-content/uploads/2021/02/Fall-Cross.jpg
END:VEVENT
END:VCALENDAR