BEGIN:VCALENDAR
VERSION:2.0
PRODID:-//Our Lady Chapel - ECPv6.15.20//NONSGML v1.0//EN
CALSCALE:GREGORIAN
METHOD:PUBLISH
X-WR-CALNAME:Our Lady Chapel
X-ORIGINAL-URL:https://ourladychapel.org
X-WR-CALDESC:Events for Our Lady Chapel
REFRESH-INTERVAL;VALUE=DURATION:PT1H
X-Robots-Tag:noindex
X-PUBLISHED-TTL:PT1H
BEGIN:VTIMEZONE
TZID:America/New_York
BEGIN:DAYLIGHT
TZOFFSETFROM:-0500
TZOFFSETTO:-0400
TZNAME:EDT
DTSTART:20240310T070000
END:DAYLIGHT
BEGIN:STANDARD
TZOFFSETFROM:-0400
TZOFFSETTO:-0500
TZNAME:EST
DTSTART:20241103T060000
END:STANDARD
BEGIN:DAYLIGHT
TZOFFSETFROM:-0500
TZOFFSETTO:-0400
TZNAME:EDT
DTSTART:20250309T070000
END:DAYLIGHT
BEGIN:STANDARD
TZOFFSETFROM:-0400
TZOFFSETTO:-0500
TZNAME:EST
DTSTART:20251102T060000
END:STANDARD
BEGIN:DAYLIGHT
TZOFFSETFROM:-0500
TZOFFSETTO:-0400
TZNAME:EDT
DTSTART:20260308T070000
END:DAYLIGHT
BEGIN:STANDARD
TZOFFSETFROM:-0400
TZOFFSETTO:-0500
TZNAME:EST
DTSTART:20261101T060000
END:STANDARD
END:VTIMEZONE
BEGIN:VEVENT
DTSTART;TZID=America/New_York:20251207T084500
DTEND;TZID=America/New_York:20251207T094500
DTSTAMP:20260423T172011
CREATED:20250924T180213Z
LAST-MODIFIED:20250924T180213Z
UID:9014-1765097100-1765100700@ourladychapel.org
SUMMARY:Faith Education class meets today
DESCRIPTION:
URL:https://ourladychapel.org/event/faith-education-class-meets-today-10/
CATEGORIES:Faith Education
ATTACH;FMTTYPE=image/jpeg:https://ourladychapel.org/wp-content/uploads/2021/02/Fall-Cross.jpg
END:VEVENT
BEGIN:VEVENT
DTSTART;TZID=America/New_York:20251116T084500
DTEND;TZID=America/New_York:20251116T084500
DTSTAMP:20260423T172011
CREATED:20250924T161845Z
LAST-MODIFIED:20250924T161845Z
UID:8961-1763282700-1763282700@ourladychapel.org
SUMMARY:Faith Education Class meets today
DESCRIPTION:
URL:https://ourladychapel.org/event/faith-education-class-meets-today-6/
CATEGORIES:Faith Education
ATTACH;FMTTYPE=image/jpeg:https://ourladychapel.org/wp-content/uploads/2021/02/Fall-Cross.jpg
END:VEVENT
BEGIN:VEVENT
DTSTART;TZID=America/New_York:20251109T084500
DTEND;TZID=America/New_York:20251109T094500
DTSTAMP:20260423T172011
CREATED:20250924T161730Z
LAST-MODIFIED:20250924T161730Z
UID:8959-1762677900-1762681500@ourladychapel.org
SUMMARY:Faith Education class meets today
DESCRIPTION:
URL:https://ourladychapel.org/event/faith-education-class-meets-today-5/
CATEGORIES:Faith Education
ATTACH;FMTTYPE=image/jpeg:https://ourladychapel.org/wp-content/uploads/2021/02/Fall-Cross.jpg
END:VEVENT
BEGIN:VEVENT
DTSTART;TZID=America/New_York:20251102T084500
DTEND;TZID=America/New_York:20251102T094500
DTSTAMP:20260423T172011
CREATED:20250924T161540Z
LAST-MODIFIED:20250924T161629Z
UID:8957-1762073100-1762076700@ourladychapel.org
SUMMARY:Faith Education class meets today
DESCRIPTION:
URL:https://ourladychapel.org/event/faith-education-class-meets-today-4/
CATEGORIES:Faith Education
ATTACH;FMTTYPE=image/jpeg:https://ourladychapel.org/wp-content/uploads/2021/02/Fall-Cross.jpg
END:VEVENT
BEGIN:VEVENT
DTSTART;TZID=America/New_York:20251026T084500
DTEND;TZID=America/New_York:20251026T094500
DTSTAMP:20260423T172011
CREATED:20250924T161432Z
LAST-MODIFIED:20250924T161432Z
UID:8955-1761468300-1761471900@ourladychapel.org
SUMMARY:Faith Education Class meets today
DESCRIPTION:
URL:https://ourladychapel.org/event/faith-education-class-meets-today-3/
CATEGORIES:Faith Education
ATTACH;FMTTYPE=image/jpeg:https://ourladychapel.org/wp-content/uploads/2021/02/Fall-Cross.jpg
END:VEVENT
BEGIN:VEVENT
DTSTART;TZID=America/New_York:20251012T084500
DTEND;TZID=America/New_York:20251012T094500
DTSTAMP:20260423T172011
CREATED:20250924T161256Z
LAST-MODIFIED:20250924T161322Z
UID:8953-1760258700-1760262300@ourladychapel.org
SUMMARY:Faith Education class meets today
DESCRIPTION:
URL:https://ourladychapel.org/event/faith-education-class-meets-today-2/
CATEGORIES:Faith Education
ATTACH;FMTTYPE=image/jpeg:https://ourladychapel.org/wp-content/uploads/2021/02/Fall-Cross.jpg
END:VEVENT
BEGIN:VEVENT
DTSTART;TZID=America/New_York:20250928T084500
DTEND;TZID=America/New_York:20250928T094500
DTSTAMP:20260423T172011
CREATED:20250924T160706Z
LAST-MODIFIED:20250924T160706Z
UID:8951-1759049100-1759052700@ourladychapel.org
SUMMARY:Faith Education Class meets today
DESCRIPTION:
URL:https://ourladychapel.org/event/faith-education-class-meets-today/
CATEGORIES:Faith Education
ATTACH;FMTTYPE=image/jpeg:https://ourladychapel.org/wp-content/uploads/2021/02/Fall-Cross.jpg
END:VEVENT
END:VCALENDAR