BEGIN:VCALENDAR
VERSION:2.0
PRODID:-//Our Lady Chapel - ECPv6.15.20//NONSGML v1.0//EN
CALSCALE:GREGORIAN
METHOD:PUBLISH
X-WR-CALNAME:Our Lady Chapel
X-ORIGINAL-URL:https://ourladychapel.org
X-WR-CALDESC:Events for Our Lady Chapel
REFRESH-INTERVAL;VALUE=DURATION:PT1H
X-Robots-Tag:noindex
X-PUBLISHED-TTL:PT1H
BEGIN:VTIMEZONE
TZID:America/New_York
BEGIN:DAYLIGHT
TZOFFSETFROM:-0500
TZOFFSETTO:-0400
TZNAME:EDT
DTSTART:20240310T070000
END:DAYLIGHT
BEGIN:STANDARD
TZOFFSETFROM:-0400
TZOFFSETTO:-0500
TZNAME:EST
DTSTART:20241103T060000
END:STANDARD
BEGIN:DAYLIGHT
TZOFFSETFROM:-0500
TZOFFSETTO:-0400
TZNAME:EDT
DTSTART:20250309T070000
END:DAYLIGHT
BEGIN:STANDARD
TZOFFSETFROM:-0400
TZOFFSETTO:-0500
TZNAME:EST
DTSTART:20251102T060000
END:STANDARD
BEGIN:DAYLIGHT
TZOFFSETFROM:-0500
TZOFFSETTO:-0400
TZNAME:EDT
DTSTART:20260308T070000
END:DAYLIGHT
BEGIN:STANDARD
TZOFFSETFROM:-0400
TZOFFSETTO:-0500
TZNAME:EST
DTSTART:20261101T060000
END:STANDARD
END:VTIMEZONE
BEGIN:VEVENT
DTSTART;TZID=America/New_York:20250901T093000
DTEND;TZID=America/New_York:20250901T110000
DTSTAMP:20260423T234455
CREATED:20250801T175121Z
LAST-MODIFIED:20250801T175121Z
UID:8713-1756719000-1756724400@ourladychapel.org
SUMMARY:Mass - Labor Day
DESCRIPTION:
URL:https://ourladychapel.org/event/mass-labor-day-2/
CATEGORIES:Mass
ATTACH;FMTTYPE=image/png:https://ourladychapel.org/wp-content/uploads/2021/06/mass.png
END:VEVENT
BEGIN:VEVENT
DTSTART;TZID=America/New_York:20250906T170000
DTEND;TZID=America/New_York:20250906T183000
DTSTAMP:20260423T234455
CREATED:20250725T165006Z
LAST-MODIFIED:20250725T165006Z
UID:8632-1757178000-1757183400@ourladychapel.org
SUMMARY:Mass
DESCRIPTION:
URL:https://ourladychapel.org/event/mass-156/
CATEGORIES:Mass
ATTACH;FMTTYPE=image/png:https://ourladychapel.org/wp-content/uploads/2021/06/mass.png
END:VEVENT
BEGIN:VEVENT
DTSTART;TZID=America/New_York:20250907T100000
DTEND;TZID=America/New_York:20250907T113000
DTSTAMP:20260423T234455
CREATED:20250725T165046Z
LAST-MODIFIED:20250725T165144Z
UID:8634-1757239200-1757244600@ourladychapel.org
SUMMARY:Mass
DESCRIPTION:
URL:https://ourladychapel.org/event/mass-157/
CATEGORIES:Mass
ATTACH;FMTTYPE=image/png:https://ourladychapel.org/wp-content/uploads/2021/06/mass.png
END:VEVENT
BEGIN:VEVENT
DTSTART;TZID=America/New_York:20250912T093000
DTEND;TZID=America/New_York:20250912T110000
DTSTAMP:20260423T234455
CREATED:20250908T132022Z
LAST-MODIFIED:20250908T132022Z
UID:8908-1757669400-1757674800@ourladychapel.org
SUMMARY:All-School Mass for Founder's Day (students only)
DESCRIPTION:Our annual All-School Mass for Founder’s Day will take place in the Gilmour Athletic Center. \nWe apologize\, but this Mass will only accomodate our student body.   Thank you.
URL:https://ourladychapel.org/event/all-school-mass-for-founders-day-students-only/
CATEGORIES:Mass
ATTACH;FMTTYPE=image/png:https://ourladychapel.org/wp-content/uploads/2021/06/mass.png
END:VEVENT
BEGIN:VEVENT
DTSTART;TZID=America/New_York:20250913T170000
DTEND;TZID=America/New_York:20250913T183000
DTSTAMP:20260423T234455
CREATED:20250725T165407Z
LAST-MODIFIED:20250725T165407Z
UID:8638-1757782800-1757788200@ourladychapel.org
SUMMARY:Mass
DESCRIPTION:
URL:https://ourladychapel.org/event/mass-158/
CATEGORIES:Mass
ATTACH;FMTTYPE=image/png:https://ourladychapel.org/wp-content/uploads/2021/06/mass.png
END:VEVENT
BEGIN:VEVENT
DTSTART;TZID=America/New_York:20250914T100000
DTEND;TZID=America/New_York:20250914T113000
DTSTAMP:20260423T234455
CREATED:20250725T165504Z
LAST-MODIFIED:20250725T165504Z
UID:8640-1757844000-1757849400@ourladychapel.org
SUMMARY:Mass
DESCRIPTION:
URL:https://ourladychapel.org/event/mass-159/
CATEGORIES:Mass
ATTACH;FMTTYPE=image/png:https://ourladychapel.org/wp-content/uploads/2021/06/mass.png
END:VEVENT
BEGIN:VEVENT
DTSTART;TZID=America/New_York:20250920T170000
DTEND;TZID=America/New_York:20250920T183000
DTSTAMP:20260423T234455
CREATED:20250725T175236Z
LAST-MODIFIED:20250725T175236Z
UID:8644-1758387600-1758393000@ourladychapel.org
SUMMARY:Mass
DESCRIPTION:
URL:https://ourladychapel.org/event/mass-160/
CATEGORIES:Mass
ATTACH;FMTTYPE=image/png:https://ourladychapel.org/wp-content/uploads/2021/06/mass.png
END:VEVENT
BEGIN:VEVENT
DTSTART;TZID=America/New_York:20250921T100000
DTEND;TZID=America/New_York:20250921T113000
DTSTAMP:20260423T234455
CREATED:20250725T175327Z
LAST-MODIFIED:20250725T175327Z
UID:8646-1758448800-1758454200@ourladychapel.org
SUMMARY:Mass
DESCRIPTION:
URL:https://ourladychapel.org/event/mass-161/
CATEGORIES:Mass
ATTACH;FMTTYPE=image/png:https://ourladychapel.org/wp-content/uploads/2021/06/mass.png
END:VEVENT
BEGIN:VEVENT
DTSTART;TZID=America/New_York:20250927T170000
DTEND;TZID=America/New_York:20250927T183000
DTSTAMP:20260423T234455
CREATED:20250725T175421Z
LAST-MODIFIED:20250725T175421Z
UID:8648-1758992400-1758997800@ourladychapel.org
SUMMARY:Mass
DESCRIPTION:
URL:https://ourladychapel.org/event/mass-162/
CATEGORIES:Mass
ATTACH;FMTTYPE=image/png:https://ourladychapel.org/wp-content/uploads/2021/06/mass.png
END:VEVENT
BEGIN:VEVENT
DTSTART;TZID=America/New_York:20250928T100000
DTEND;TZID=America/New_York:20250928T113000
DTSTAMP:20260423T234455
CREATED:20250725T180314Z
LAST-MODIFIED:20250725T180314Z
UID:8650-1759053600-1759059000@ourladychapel.org
SUMMARY:Mass
DESCRIPTION:
URL:https://ourladychapel.org/event/mass-163/
CATEGORIES:Mass
ATTACH;FMTTYPE=image/png:https://ourladychapel.org/wp-content/uploads/2021/06/mass.png
END:VEVENT
END:VCALENDAR