BEGIN:VCALENDAR
VERSION:2.0
PRODID:-//Our Lady Chapel - ECPv6.15.20//NONSGML v1.0//EN
CALSCALE:GREGORIAN
METHOD:PUBLISH
X-ORIGINAL-URL:https://ourladychapel.org
X-WR-CALDESC:Events for Our Lady Chapel
REFRESH-INTERVAL;VALUE=DURATION:PT1H
X-Robots-Tag:noindex
X-PUBLISHED-TTL:PT1H
BEGIN:VTIMEZONE
TZID:America/New_York
BEGIN:DAYLIGHT
TZOFFSETFROM:-0500
TZOFFSETTO:-0400
TZNAME:EDT
DTSTART:20240310T070000
END:DAYLIGHT
BEGIN:STANDARD
TZOFFSETFROM:-0400
TZOFFSETTO:-0500
TZNAME:EST
DTSTART:20241103T060000
END:STANDARD
BEGIN:DAYLIGHT
TZOFFSETFROM:-0500
TZOFFSETTO:-0400
TZNAME:EDT
DTSTART:20250309T070000
END:DAYLIGHT
BEGIN:STANDARD
TZOFFSETFROM:-0400
TZOFFSETTO:-0500
TZNAME:EST
DTSTART:20251102T060000
END:STANDARD
BEGIN:DAYLIGHT
TZOFFSETFROM:-0500
TZOFFSETTO:-0400
TZNAME:EDT
DTSTART:20260308T070000
END:DAYLIGHT
BEGIN:STANDARD
TZOFFSETFROM:-0400
TZOFFSETTO:-0500
TZNAME:EST
DTSTART:20261101T060000
END:STANDARD
END:VTIMEZONE
BEGIN:VEVENT
DTSTART;TZID=America/New_York:20251004T170000
DTEND;TZID=America/New_York:20251004T183000
DTSTAMP:20260423T223151
CREATED:20250725T180419Z
LAST-MODIFIED:20250725T180419Z
UID:8652-1759597200-1759602600@ourladychapel.org
SUMMARY:Mass
DESCRIPTION:
URL:https://ourladychapel.org/event/mass-164/
CATEGORIES:Mass
ATTACH;FMTTYPE=image/png:https://ourladychapel.org/wp-content/uploads/2021/06/mass.png
END:VEVENT
BEGIN:VEVENT
DTSTART;TZID=America/New_York:20251005T100000
DTEND;TZID=America/New_York:20251005T113000
DTSTAMP:20260423T223151
CREATED:20250725T180553Z
LAST-MODIFIED:20250725T180553Z
UID:8655-1759658400-1759663800@ourladychapel.org
SUMMARY:Mass
DESCRIPTION:
URL:https://ourladychapel.org/event/mass-165/
CATEGORIES:Mass
ATTACH;FMTTYPE=image/png:https://ourladychapel.org/wp-content/uploads/2021/06/mass.png
END:VEVENT
BEGIN:VEVENT
DTSTART;TZID=America/New_York:20251011T170000
DTEND;TZID=America/New_York:20251011T183000
DTSTAMP:20260423T223151
CREATED:20250725T181218Z
LAST-MODIFIED:20250725T181218Z
UID:8659-1760202000-1760207400@ourladychapel.org
SUMMARY:Mass
DESCRIPTION:
URL:https://ourladychapel.org/event/mass-166/
CATEGORIES:Mass
ATTACH;FMTTYPE=image/png:https://ourladychapel.org/wp-content/uploads/2021/06/mass.png
END:VEVENT
BEGIN:VEVENT
DTSTART;TZID=America/New_York:20251012T100000
DTEND;TZID=America/New_York:20251012T113000
DTSTAMP:20260423T223151
CREATED:20250725T181310Z
LAST-MODIFIED:20250725T181310Z
UID:8661-1760263200-1760268600@ourladychapel.org
SUMMARY:Mass
DESCRIPTION:
URL:https://ourladychapel.org/event/mass-167/
CATEGORIES:Mass
ATTACH;FMTTYPE=image/png:https://ourladychapel.org/wp-content/uploads/2021/06/mass.png
END:VEVENT
BEGIN:VEVENT
DTSTART;TZID=America/New_York:20251018T170000
DTEND;TZID=America/New_York:20251018T183000
DTSTAMP:20260423T223151
CREATED:20250725T182637Z
LAST-MODIFIED:20250725T182637Z
UID:8666-1760806800-1760812200@ourladychapel.org
SUMMARY:Mass
DESCRIPTION:
URL:https://ourladychapel.org/event/mass-168/
CATEGORIES:Mass
ATTACH;FMTTYPE=image/png:https://ourladychapel.org/wp-content/uploads/2021/06/mass.png
END:VEVENT
BEGIN:VEVENT
DTSTART;TZID=America/New_York:20251019T100000
DTEND;TZID=America/New_York:20251019T113000
DTSTAMP:20260423T223151
CREATED:20250725T182729Z
LAST-MODIFIED:20250725T182729Z
UID:8668-1760868000-1760873400@ourladychapel.org
SUMMARY:Mass
DESCRIPTION:
URL:https://ourladychapel.org/event/mass-169/
CATEGORIES:Mass
ATTACH;FMTTYPE=image/png:https://ourladychapel.org/wp-content/uploads/2021/06/mass.png
END:VEVENT
BEGIN:VEVENT
DTSTART;TZID=America/New_York:20251025T170000
DTEND;TZID=America/New_York:20251025T183000
DTSTAMP:20260423T223151
CREATED:20250725T182828Z
LAST-MODIFIED:20250725T182828Z
UID:8670-1761411600-1761417000@ourladychapel.org
SUMMARY:Mass
DESCRIPTION:
URL:https://ourladychapel.org/event/mass-170/
CATEGORIES:Mass
ATTACH;FMTTYPE=image/png:https://ourladychapel.org/wp-content/uploads/2021/06/mass.png
END:VEVENT
BEGIN:VEVENT
DTSTART;TZID=America/New_York:20251026T100000
DTEND;TZID=America/New_York:20251026T113000
DTSTAMP:20260423T223151
CREATED:20250725T182922Z
LAST-MODIFIED:20250725T182922Z
UID:8672-1761472800-1761478200@ourladychapel.org
SUMMARY:Mass
DESCRIPTION:
URL:https://ourladychapel.org/event/mass-171/
CATEGORIES:Mass
ATTACH;FMTTYPE=image/png:https://ourladychapel.org/wp-content/uploads/2021/06/mass.png
END:VEVENT
END:VCALENDAR