BEGIN:VCALENDAR
VERSION:2.0
PRODID:-//Our Lady Chapel - ECPv6.15.20//NONSGML v1.0//EN
CALSCALE:GREGORIAN
METHOD:PUBLISH
X-ORIGINAL-URL:https://ourladychapel.org
X-WR-CALDESC:Events for Our Lady Chapel
REFRESH-INTERVAL;VALUE=DURATION:PT1H
X-Robots-Tag:noindex
X-PUBLISHED-TTL:PT1H
BEGIN:VTIMEZONE
TZID:America/New_York
BEGIN:DAYLIGHT
TZOFFSETFROM:-0500
TZOFFSETTO:-0400
TZNAME:EDT
DTSTART:20240310T070000
END:DAYLIGHT
BEGIN:STANDARD
TZOFFSETFROM:-0400
TZOFFSETTO:-0500
TZNAME:EST
DTSTART:20241103T060000
END:STANDARD
BEGIN:DAYLIGHT
TZOFFSETFROM:-0500
TZOFFSETTO:-0400
TZNAME:EDT
DTSTART:20250309T070000
END:DAYLIGHT
BEGIN:STANDARD
TZOFFSETFROM:-0400
TZOFFSETTO:-0500
TZNAME:EST
DTSTART:20251102T060000
END:STANDARD
BEGIN:DAYLIGHT
TZOFFSETFROM:-0500
TZOFFSETTO:-0400
TZNAME:EDT
DTSTART:20260308T070000
END:DAYLIGHT
BEGIN:STANDARD
TZOFFSETFROM:-0400
TZOFFSETTO:-0500
TZNAME:EST
DTSTART:20261101T060000
END:STANDARD
END:VTIMEZONE
BEGIN:VEVENT
DTSTART;TZID=America/New_York:20251208T091500
DTEND;TZID=America/New_York:20251208T104500
DTSTAMP:20260423T212026
CREATED:20251107T200041Z
LAST-MODIFIED:20251205T214317Z
UID:9491-1765185300-1765190700@ourladychapel.org
SUMMARY:Mass for the Immaculate Conception for the Lower School\, Our Lady Chapel
DESCRIPTION:Mass will be in Our Lady Chapel.   Seating will be avaialble for the Chapel Community.
URL:https://ourladychapel.org/event/mass-for-the-immaculate-conception-for-the-lower-school-2/
CATEGORIES:Mass
ATTACH;FMTTYPE=image/png:https://ourladychapel.org/wp-content/uploads/2021/06/mass.png
END:VEVENT
BEGIN:VEVENT
DTSTART;TZID=America/New_York:20251208T130000
DTEND;TZID=America/New_York:20251208T143000
DTSTAMP:20260423T212026
CREATED:20251205T214230Z
LAST-MODIFIED:20251205T214230Z
UID:9611-1765198800-1765204200@ourladychapel.org
SUMMARY:Middle & Upper School Mass for the Feast of the Immaculate Conception - Gilmour Gymnasium
DESCRIPTION:This Mass will take place in the Lancer Gymnasium\, not in the Chapel. \nSeating is available\, and it is open to the public.  Thank you.
URL:https://ourladychapel.org/event/middle-upper-school-mass-for-the-feast-of-the-immaculate-conception-gilmour-gymnasium/
CATEGORIES:Mass
END:VEVENT
BEGIN:VEVENT
DTSTART;TZID=America/New_York:20251208T173000
DTEND;TZID=America/New_York:20251208T190000
DTSTAMP:20260423T212026
CREATED:20251023T133350Z
LAST-MODIFIED:20251023T144749Z
UID:9304-1765215000-1765220400@ourladychapel.org
SUMMARY:Mass ~ Feast of the Immaculate Conception
DESCRIPTION:
URL:https://ourladychapel.org/event/mass-feast-of-the-immaculate-conception-3/
CATEGORIES:Mass
ATTACH;FMTTYPE=image/png:https://ourladychapel.org/wp-content/uploads/2021/06/mass.png
END:VEVENT
END:VCALENDAR