BEGIN:VCALENDAR
VERSION:2.0
PRODID:-//Our Lady Chapel - ECPv6.15.20//NONSGML v1.0//EN
CALSCALE:GREGORIAN
METHOD:PUBLISH
X-WR-CALNAME:Our Lady Chapel
X-ORIGINAL-URL:https://ourladychapel.org
X-WR-CALDESC:Events for Our Lady Chapel
REFRESH-INTERVAL;VALUE=DURATION:PT1H
X-Robots-Tag:noindex
X-PUBLISHED-TTL:PT1H
BEGIN:VTIMEZONE
TZID:America/New_York
BEGIN:DAYLIGHT
TZOFFSETFROM:-0500
TZOFFSETTO:-0400
TZNAME:EDT
DTSTART:20250309T070000
END:DAYLIGHT
BEGIN:STANDARD
TZOFFSETFROM:-0400
TZOFFSETTO:-0500
TZNAME:EST
DTSTART:20251102T060000
END:STANDARD
BEGIN:DAYLIGHT
TZOFFSETFROM:-0500
TZOFFSETTO:-0400
TZNAME:EDT
DTSTART:20260308T070000
END:DAYLIGHT
BEGIN:STANDARD
TZOFFSETFROM:-0400
TZOFFSETTO:-0500
TZNAME:EST
DTSTART:20261101T060000
END:STANDARD
BEGIN:DAYLIGHT
TZOFFSETFROM:-0500
TZOFFSETTO:-0400
TZNAME:EDT
DTSTART:20270314T070000
END:DAYLIGHT
BEGIN:STANDARD
TZOFFSETFROM:-0400
TZOFFSETTO:-0500
TZNAME:EST
DTSTART:20271107T060000
END:STANDARD
END:VTIMEZONE
BEGIN:VEVENT
DTSTART;TZID=America/New_York:20260330T092000
DTEND;TZID=America/New_York:20260330T105000
DTSTAMP:20260423T154018
CREATED:20251230T160758Z
LAST-MODIFIED:20251230T160758Z
UID:9749-1774862400-1774867800@ourladychapel.org
SUMMARY:Lower School Mass
DESCRIPTION:
URL:https://ourladychapel.org/event/lower-school-mass-6/
CATEGORIES:Mass
ATTACH;FMTTYPE=image/png:https://ourladychapel.org/wp-content/uploads/2021/06/mass.png
END:VEVENT
BEGIN:VEVENT
DTSTART;TZID=America/New_York:20260329T100000
DTEND;TZID=America/New_York:20260329T113000
DTSTAMP:20260423T154018
CREATED:20251107T182916Z
LAST-MODIFIED:20251107T182916Z
UID:9471-1774778400-1774783800@ourladychapel.org
SUMMARY:Mass
DESCRIPTION:
URL:https://ourladychapel.org/event/mass-203/
CATEGORIES:Mass
ATTACH;FMTTYPE=image/png:https://ourladychapel.org/wp-content/uploads/2021/06/mass.png
END:VEVENT
BEGIN:VEVENT
DTSTART;TZID=America/New_York:20260328T170000
DTEND;TZID=America/New_York:20260328T183000
DTSTAMP:20260423T154018
CREATED:20251107T175158Z
LAST-MODIFIED:20251107T175158Z
UID:9465-1774717200-1774722600@ourladychapel.org
SUMMARY:Mass
DESCRIPTION:
URL:https://ourladychapel.org/event/mass-202/
CATEGORIES:Mass
ATTACH;FMTTYPE=image/png:https://ourladychapel.org/wp-content/uploads/2021/06/mass.png
END:VEVENT
BEGIN:VEVENT
DTSTART;TZID=America/New_York:20260322T100000
DTEND;TZID=America/New_York:20260322T113000
DTSTAMP:20260423T154018
CREATED:20251107T173359Z
LAST-MODIFIED:20251107T174720Z
UID:9461-1774173600-1774179000@ourladychapel.org
SUMMARY:Mass
DESCRIPTION:
URL:https://ourladychapel.org/event/mass-201/
CATEGORIES:Mass
ATTACH;FMTTYPE=image/png:https://ourladychapel.org/wp-content/uploads/2021/06/mass.png
END:VEVENT
BEGIN:VEVENT
DTSTART;TZID=America/New_York:20260321T170000
DTEND;TZID=America/New_York:20260321T183000
DTSTAMP:20260423T154018
CREATED:20251107T173305Z
LAST-MODIFIED:20251107T173305Z
UID:9459-1774112400-1774117800@ourladychapel.org
SUMMARY:Mass
DESCRIPTION:
URL:https://ourladychapel.org/event/mass-200/
CATEGORIES:Mass
ATTACH;FMTTYPE=image/png:https://ourladychapel.org/wp-content/uploads/2021/06/mass.png
END:VEVENT
BEGIN:VEVENT
DTSTART;TZID=America/New_York:20260315T100000
DTEND;TZID=America/New_York:20260315T113000
DTSTAMP:20260423T154018
CREATED:20251107T173030Z
LAST-MODIFIED:20251107T173030Z
UID:9457-1773568800-1773574200@ourladychapel.org
SUMMARY:Mass
DESCRIPTION:
URL:https://ourladychapel.org/event/mass-199/
CATEGORIES:Mass
ATTACH;FMTTYPE=image/png:https://ourladychapel.org/wp-content/uploads/2021/06/mass.png
END:VEVENT
BEGIN:VEVENT
DTSTART;TZID=America/New_York:20260314T170000
DTEND;TZID=America/New_York:20260314T183000
DTSTAMP:20260423T154018
CREATED:20251107T172802Z
LAST-MODIFIED:20251107T172802Z
UID:9455-1773507600-1773513000@ourladychapel.org
SUMMARY:Mass
DESCRIPTION:
URL:https://ourladychapel.org/event/mass-198/
CATEGORIES:Mass
ATTACH;FMTTYPE=image/png:https://ourladychapel.org/wp-content/uploads/2021/06/mass.png
END:VEVENT
BEGIN:VEVENT
DTSTART;TZID=America/New_York:20260308T100000
DTEND;TZID=America/New_York:20260308T113000
DTSTAMP:20260423T154018
CREATED:20251107T172555Z
LAST-MODIFIED:20251107T172555Z
UID:9453-1772964000-1772969400@ourladychapel.org
SUMMARY:Mass
DESCRIPTION:
URL:https://ourladychapel.org/event/mass-197/
CATEGORIES:Mass
ATTACH;FMTTYPE=image/png:https://ourladychapel.org/wp-content/uploads/2021/06/mass.png
END:VEVENT
BEGIN:VEVENT
DTSTART;TZID=America/New_York:20260307T170000
DTEND;TZID=America/New_York:20260307T183000
DTSTAMP:20260423T154018
CREATED:20251107T172413Z
LAST-MODIFIED:20251107T172413Z
UID:9450-1772902800-1772908200@ourladychapel.org
SUMMARY:Mass
DESCRIPTION:
URL:https://ourladychapel.org/event/mass-196/
CATEGORIES:Mass
ATTACH;FMTTYPE=image/png:https://ourladychapel.org/wp-content/uploads/2021/06/mass.png
END:VEVENT
BEGIN:VEVENT
DTSTART;TZID=America/New_York:20260301T100000
DTEND;TZID=America/New_York:20260301T113000
DTSTAMP:20260423T154018
CREATED:20251107T172142Z
LAST-MODIFIED:20251107T172142Z
UID:9446-1772359200-1772364600@ourladychapel.org
SUMMARY:Mass
DESCRIPTION:
URL:https://ourladychapel.org/event/mass-195/
CATEGORIES:Mass
ATTACH;FMTTYPE=image/png:https://ourladychapel.org/wp-content/uploads/2021/06/mass.png
END:VEVENT
BEGIN:VEVENT
DTSTART;TZID=America/New_York:20260228T170000
DTEND;TZID=America/New_York:20260228T183000
DTSTAMP:20260423T154018
CREATED:20251107T172059Z
LAST-MODIFIED:20251107T172059Z
UID:9444-1772298000-1772303400@ourladychapel.org
SUMMARY:Mass
DESCRIPTION:
URL:https://ourladychapel.org/event/mass-194/
CATEGORIES:Mass
ATTACH;FMTTYPE=image/png:https://ourladychapel.org/wp-content/uploads/2021/06/mass.png
END:VEVENT
BEGIN:VEVENT
DTSTART;TZID=America/New_York:20260222T100000
DTEND;TZID=America/New_York:20260222T113000
DTSTAMP:20260423T154018
CREATED:20251107T171729Z
LAST-MODIFIED:20251107T171729Z
UID:9440-1771754400-1771759800@ourladychapel.org
SUMMARY:Mass
DESCRIPTION:
URL:https://ourladychapel.org/event/mass-193/
CATEGORIES:Mass
ATTACH;FMTTYPE=image/png:https://ourladychapel.org/wp-content/uploads/2021/06/mass.png
END:VEVENT
BEGIN:VEVENT
DTSTART;TZID=America/New_York:20260221T170000
DTEND;TZID=America/New_York:20260221T183000
DTSTAMP:20260423T154018
CREATED:20251107T171646Z
LAST-MODIFIED:20251107T171646Z
UID:9438-1771693200-1771698600@ourladychapel.org
SUMMARY:Mass
DESCRIPTION:
URL:https://ourladychapel.org/event/mass-192/
CATEGORIES:Mass
ATTACH;FMTTYPE=image/png:https://ourladychapel.org/wp-content/uploads/2021/06/mass.png
END:VEVENT
BEGIN:VEVENT
DTSTART;TZID=America/New_York:20260218T173000
DTEND;TZID=America/New_York:20260218T190000
DTSTAMP:20260423T154018
CREATED:20251013T202712Z
LAST-MODIFIED:20260120T152600Z
UID:9217-1771435800-1771441200@ourladychapel.org
SUMMARY:Ash Wednesday Mass
DESCRIPTION:
URL:https://ourladychapel.org/event/ash-wednesday-mass-2/
CATEGORIES:Mass
ATTACH;FMTTYPE=image/png:https://ourladychapel.org/wp-content/uploads/2021/06/mass.png
END:VEVENT
BEGIN:VEVENT
DTSTART;TZID=America/New_York:20260218T140000
DTEND;TZID=America/New_York:20260218T151500
DTSTAMP:20260423T154018
CREATED:20260202T211226Z
LAST-MODIFIED:20260202T211338Z
UID:9974-1771423200-1771427700@ourladychapel.org
SUMMARY:Ash Wednesday Mass for the Middle School
DESCRIPTION:This school Mass will have ample seating available.
URL:https://ourladychapel.org/event/ash-wednesday-mass-for-the-middle-school-2/
CATEGORIES:Mass
ATTACH;FMTTYPE=image/png:https://ourladychapel.org/wp-content/uploads/2021/06/mass.png
END:VEVENT
BEGIN:VEVENT
DTSTART;TZID=America/New_York:20260218T093000
DTEND;TZID=America/New_York:20260218T104500
DTSTAMP:20260423T154018
CREATED:20260202T210847Z
LAST-MODIFIED:20260202T211313Z
UID:9970-1771407000-1771411500@ourladychapel.org
SUMMARY:Ash Wednesday Mass for the Lower School
DESCRIPTION:This school Mass will have ample seating available.
URL:https://ourladychapel.org/event/lower-school-mass/
CATEGORIES:Mass
ATTACH;FMTTYPE=image/png:https://ourladychapel.org/wp-content/uploads/2021/06/mass.png
END:VEVENT
BEGIN:VEVENT
DTSTART;TZID=America/New_York:20260215T100000
DTEND;TZID=America/New_York:20260215T113000
DTSTAMP:20260423T154018
CREATED:20251013T202527Z
LAST-MODIFIED:20251013T202527Z
UID:9215-1771149600-1771155000@ourladychapel.org
SUMMARY:Mass
DESCRIPTION:
URL:https://ourladychapel.org/event/mass-191/
CATEGORIES:Mass
ATTACH;FMTTYPE=image/png:https://ourladychapel.org/wp-content/uploads/2021/06/mass.png
END:VEVENT
BEGIN:VEVENT
DTSTART;TZID=America/New_York:20260214T170000
DTEND;TZID=America/New_York:20260214T183000
DTSTAMP:20260423T154018
CREATED:20251013T202420Z
LAST-MODIFIED:20251013T202420Z
UID:9213-1771088400-1771093800@ourladychapel.org
SUMMARY:Mass
DESCRIPTION:
URL:https://ourladychapel.org/event/mass-190/
CATEGORIES:Mass
ATTACH;FMTTYPE=image/png:https://ourladychapel.org/wp-content/uploads/2021/06/mass.png
END:VEVENT
BEGIN:VEVENT
DTSTART;TZID=America/New_York:20260208T100000
DTEND;TZID=America/New_York:20260208T113000
DTSTAMP:20260423T154018
CREATED:20251013T202223Z
LAST-MODIFIED:20251013T202223Z
UID:9211-1770544800-1770550200@ourladychapel.org
SUMMARY:Mass
DESCRIPTION:
URL:https://ourladychapel.org/event/mass-189/
CATEGORIES:Mass
ATTACH;FMTTYPE=image/png:https://ourladychapel.org/wp-content/uploads/2021/06/mass.png
END:VEVENT
BEGIN:VEVENT
DTSTART;TZID=America/New_York:20260207T170000
DTEND;TZID=America/New_York:20260207T183000
DTSTAMP:20260423T154018
CREATED:20251013T201952Z
LAST-MODIFIED:20251013T201952Z
UID:9207-1770483600-1770489000@ourladychapel.org
SUMMARY:Mass
DESCRIPTION:
URL:https://ourladychapel.org/event/mass-188/
CATEGORIES:Mass
ATTACH;FMTTYPE=image/png:https://ourladychapel.org/wp-content/uploads/2021/06/mass.png
END:VEVENT
BEGIN:VEVENT
DTSTART;TZID=America/New_York:20260201T100000
DTEND;TZID=America/New_York:20260201T113000
DTSTAMP:20260423T154018
CREATED:20251013T201724Z
LAST-MODIFIED:20251013T201724Z
UID:9204-1769940000-1769945400@ourladychapel.org
SUMMARY:Mass
DESCRIPTION:
URL:https://ourladychapel.org/event/mass-187/
CATEGORIES:Mass
ATTACH;FMTTYPE=image/png:https://ourladychapel.org/wp-content/uploads/2021/06/mass.png
END:VEVENT
BEGIN:VEVENT
DTSTART;TZID=America/New_York:20260131T170000
DTEND;TZID=America/New_York:20260131T183000
DTSTAMP:20260423T154018
CREATED:20251013T201128Z
LAST-MODIFIED:20260128T183956Z
UID:9198-1769878800-1769884200@ourladychapel.org
SUMMARY:CANCELLED:  5:00 pm Mass
DESCRIPTION:Our Saturday 5:00 pm Mass will be cancelled this Saturday\, January 31st\, 2026. \nFr. John is travelling to the University of Notre Dame for the official Mass and Burial of Br. Robert Lavelle\, C.S.C. which takes place at Notre Dame this Saturday\, January 31st. \nMass will be held at 10:00 am on Sunday\, February 1st as usual.
URL:https://ourladychapel.org/event/mass-186/
CATEGORIES:Mass
ATTACH;FMTTYPE=image/png:https://ourladychapel.org/wp-content/uploads/2021/06/mass.png
END:VEVENT
BEGIN:VEVENT
DTSTART;TZID=America/New_York:20260129T100000
DTEND;TZID=America/New_York:20260129T120000
DTSTAMP:20260423T154018
CREATED:20260128T160003Z
LAST-MODIFIED:20260128T160003Z
UID:9903-1769680800-1769688000@ourladychapel.org
SUMMARY:Funeral Mass for Br. Robert Lavelle - Gilmour Athletic Center
DESCRIPTION:
URL:https://ourladychapel.org/event/funeral-mass-for-br-robert-lavelle-gilmour-athletic-center/
CATEGORIES:Mass
ATTACH;FMTTYPE=image/png:https://ourladychapel.org/wp-content/uploads/2021/06/mass.png
END:VEVENT
BEGIN:VEVENT
DTSTART;TZID=America/New_York:20260125T100000
DTEND;TZID=America/New_York:20260125T113000
DTSTAMP:20260423T154018
CREATED:20251013T201036Z
LAST-MODIFIED:20251013T201036Z
UID:9196-1769335200-1769340600@ourladychapel.org
SUMMARY:Mass
DESCRIPTION:
URL:https://ourladychapel.org/event/mass-185/
CATEGORIES:Mass
ATTACH;FMTTYPE=image/png:https://ourladychapel.org/wp-content/uploads/2021/06/mass.png
END:VEVENT
BEGIN:VEVENT
DTSTART;TZID=America/New_York:20260124T170000
DTEND;TZID=America/New_York:20260124T183000
DTSTAMP:20260423T154018
CREATED:20251013T200950Z
LAST-MODIFIED:20260128T183812Z
UID:9194-1769274000-1769279400@ourladychapel.org
SUMMARY:Mass
DESCRIPTION:
URL:https://ourladychapel.org/event/mass-184/
CATEGORIES:Mass
ATTACH;FMTTYPE=image/png:https://ourladychapel.org/wp-content/uploads/2021/06/mass.png
END:VEVENT
BEGIN:VEVENT
DTSTART;TZID=America/New_York:20260118T100000
DTEND;TZID=America/New_York:20260118T113000
DTSTAMP:20260423T154018
CREATED:20250925T142142Z
LAST-MODIFIED:20250925T145127Z
UID:9062-1768730400-1768735800@ourladychapel.org
SUMMARY:Mass
DESCRIPTION:
URL:https://ourladychapel.org/event/mass-183/
CATEGORIES:Mass
ATTACH;FMTTYPE=image/png:https://ourladychapel.org/wp-content/uploads/2021/06/mass.png
END:VEVENT
BEGIN:VEVENT
DTSTART;TZID=America/New_York:20260117T170000
DTEND;TZID=America/New_York:20260117T183000
DTSTAMP:20260423T154018
CREATED:20250925T140024Z
LAST-MODIFIED:20250925T140024Z
UID:9058-1768669200-1768674600@ourladychapel.org
SUMMARY:Mass
DESCRIPTION:
URL:https://ourladychapel.org/event/mass-182/
CATEGORIES:Mass
ATTACH;FMTTYPE=image/png:https://ourladychapel.org/wp-content/uploads/2021/06/mass.png
END:VEVENT
BEGIN:VEVENT
DTSTART;TZID=America/New_York:20260112T092000
DTEND;TZID=America/New_York:20260112T105000
DTSTAMP:20260423T154018
CREATED:20251230T155919Z
LAST-MODIFIED:20251230T160038Z
UID:9744-1768209600-1768215000@ourladychapel.org
SUMMARY:Lower School Mass
DESCRIPTION:
URL:https://ourladychapel.org/event/lower-school-mass-5/
CATEGORIES:Mass
ATTACH;FMTTYPE=image/png:https://ourladychapel.org/wp-content/uploads/2021/06/mass.png
END:VEVENT
BEGIN:VEVENT
DTSTART;TZID=America/New_York:20260111T100000
DTEND;TZID=America/New_York:20260111T113000
DTSTAMP:20260423T154018
CREATED:20250925T135814Z
LAST-MODIFIED:20250925T135814Z
UID:9056-1768125600-1768131000@ourladychapel.org
SUMMARY:Mass ~ The Baptism of the Lord
DESCRIPTION:
URL:https://ourladychapel.org/event/mass-the-baptism-of-the-lord/
CATEGORIES:Mass
ATTACH;FMTTYPE=image/png:https://ourladychapel.org/wp-content/uploads/2021/06/mass.png
END:VEVENT
BEGIN:VEVENT
DTSTART;TZID=America/New_York:20260110T170000
DTEND;TZID=America/New_York:20260110T183000
DTSTAMP:20260423T154018
CREATED:20250925T135732Z
LAST-MODIFIED:20250925T135732Z
UID:9054-1768064400-1768069800@ourladychapel.org
SUMMARY:Mass ~ Vigil of the Baptism of the Lord
DESCRIPTION:
URL:https://ourladychapel.org/event/mass-vigil-of-the-baptism-of-the-lord/
CATEGORIES:Mass
ATTACH;FMTTYPE=image/png:https://ourladychapel.org/wp-content/uploads/2021/06/mass.png
END:VEVENT
END:VCALENDAR