BEGIN:VCALENDAR
VERSION:2.0
PRODID:-//Our Lady Chapel - ECPv6.15.20//NONSGML v1.0//EN
CALSCALE:GREGORIAN
METHOD:PUBLISH
X-WR-CALNAME:Our Lady Chapel
X-ORIGINAL-URL:https://ourladychapel.org
X-WR-CALDESC:Events for Our Lady Chapel
REFRESH-INTERVAL;VALUE=DURATION:PT1H
X-Robots-Tag:noindex
X-PUBLISHED-TTL:PT1H
BEGIN:VTIMEZONE
TZID:America/New_York
BEGIN:DAYLIGHT
TZOFFSETFROM:-0500
TZOFFSETTO:-0400
TZNAME:EDT
DTSTART:20240310T070000
END:DAYLIGHT
BEGIN:STANDARD
TZOFFSETFROM:-0400
TZOFFSETTO:-0500
TZNAME:EST
DTSTART:20241103T060000
END:STANDARD
BEGIN:DAYLIGHT
TZOFFSETFROM:-0500
TZOFFSETTO:-0400
TZNAME:EDT
DTSTART:20250309T070000
END:DAYLIGHT
BEGIN:STANDARD
TZOFFSETFROM:-0400
TZOFFSETTO:-0500
TZNAME:EST
DTSTART:20251102T060000
END:STANDARD
BEGIN:DAYLIGHT
TZOFFSETFROM:-0500
TZOFFSETTO:-0400
TZNAME:EDT
DTSTART:20260308T070000
END:DAYLIGHT
BEGIN:STANDARD
TZOFFSETFROM:-0400
TZOFFSETTO:-0500
TZNAME:EST
DTSTART:20261101T060000
END:STANDARD
BEGIN:DAYLIGHT
TZOFFSETFROM:-0500
TZOFFSETTO:-0400
TZNAME:EDT
DTSTART:20270314T070000
END:DAYLIGHT
BEGIN:STANDARD
TZOFFSETFROM:-0400
TZOFFSETTO:-0500
TZNAME:EST
DTSTART:20271107T060000
END:STANDARD
END:VTIMEZONE
BEGIN:VEVENT
DTSTART;TZID=America/New_York:20251108T170000
DTEND;TZID=America/New_York:20251108T183000
DTSTAMP:20260424T034255
CREATED:20250924T174101Z
LAST-MODIFIED:20250924T174101Z
UID:8992-1762621200-1762626600@ourladychapel.org
SUMMARY:Mass
DESCRIPTION:
URL:https://ourladychapel.org/event/mass-172/
CATEGORIES:Mass
ATTACH;FMTTYPE=image/png:https://ourladychapel.org/wp-content/uploads/2021/06/mass.png
END:VEVENT
BEGIN:VEVENT
DTSTART;TZID=America/New_York:20251109T100000
DTEND;TZID=America/New_York:20251109T113000
DTSTAMP:20260424T034255
CREATED:20250924T174142Z
LAST-MODIFIED:20250924T174142Z
UID:8994-1762682400-1762687800@ourladychapel.org
SUMMARY:Mass
DESCRIPTION:
URL:https://ourladychapel.org/event/mass-173/
CATEGORIES:Mass
ATTACH;FMTTYPE=image/png:https://ourladychapel.org/wp-content/uploads/2021/06/mass.png
END:VEVENT
BEGIN:VEVENT
DTSTART;TZID=America/New_York:20251115T170000
DTEND;TZID=America/New_York:20251115T183000
DTSTAMP:20260424T034255
CREATED:20250924T174243Z
LAST-MODIFIED:20250924T174243Z
UID:8996-1763226000-1763231400@ourladychapel.org
SUMMARY:Mass
DESCRIPTION:
URL:https://ourladychapel.org/event/mass-174/
CATEGORIES:Mass
ATTACH;FMTTYPE=image/png:https://ourladychapel.org/wp-content/uploads/2021/06/mass.png
END:VEVENT
BEGIN:VEVENT
DTSTART;TZID=America/New_York:20251116T100000
DTEND;TZID=America/New_York:20251116T113000
DTSTAMP:20260424T034255
CREATED:20250924T174333Z
LAST-MODIFIED:20250924T174333Z
UID:8998-1763287200-1763292600@ourladychapel.org
SUMMARY:Mass
DESCRIPTION:
URL:https://ourladychapel.org/event/mass-175/
CATEGORIES:Mass
ATTACH;FMTTYPE=image/png:https://ourladychapel.org/wp-content/uploads/2021/06/mass.png
END:VEVENT
BEGIN:VEVENT
DTSTART;TZID=America/New_York:20251122T170000
DTEND;TZID=America/New_York:20251122T183000
DTSTAMP:20260424T034255
CREATED:20250924T174446Z
LAST-MODIFIED:20250924T174446Z
UID:9000-1763830800-1763836200@ourladychapel.org
SUMMARY:Mass
DESCRIPTION:
URL:https://ourladychapel.org/event/mass-176/
CATEGORIES:Mass
ATTACH;FMTTYPE=image/png:https://ourladychapel.org/wp-content/uploads/2021/06/mass.png
END:VEVENT
BEGIN:VEVENT
DTSTART;TZID=America/New_York:20251123T100000
DTEND;TZID=America/New_York:20251123T113000
DTSTAMP:20260424T034255
CREATED:20250924T175533Z
LAST-MODIFIED:20250924T175533Z
UID:9002-1763892000-1763897400@ourladychapel.org
SUMMARY:Mass
DESCRIPTION:
URL:https://ourladychapel.org/event/mass-177/
CATEGORIES:Mass
ATTACH;FMTTYPE=image/png:https://ourladychapel.org/wp-content/uploads/2021/06/mass.png
END:VEVENT
BEGIN:VEVENT
DTSTART;TZID=America/New_York:20251127T093000
DTEND;TZID=America/New_York:20251127T110000
DTSTAMP:20260424T034255
CREATED:20250924T175630Z
LAST-MODIFIED:20250924T175630Z
UID:9004-1764235800-1764241200@ourladychapel.org
SUMMARY:Thanksgiving Day Mass
DESCRIPTION:
URL:https://ourladychapel.org/event/thanksgiving-day-mass/
CATEGORIES:Mass
ATTACH;FMTTYPE=image/png:https://ourladychapel.org/wp-content/uploads/2021/06/mass.png
END:VEVENT
BEGIN:VEVENT
DTSTART;TZID=America/New_York:20251129T170000
DTEND;TZID=America/New_York:20251129T183000
DTSTAMP:20260424T034255
CREATED:20250924T175720Z
LAST-MODIFIED:20250924T175937Z
UID:9006-1764435600-1764441000@ourladychapel.org
SUMMARY:Mass ~ Vigil of the 1st Sunday of Advent
DESCRIPTION:
URL:https://ourladychapel.org/event/mass-178/
CATEGORIES:Mass
ATTACH;FMTTYPE=image/png:https://ourladychapel.org/wp-content/uploads/2021/06/mass.png
END:VEVENT
BEGIN:VEVENT
DTSTART;TZID=America/New_York:20251130T100000
DTEND;TZID=America/New_York:20251130T113000
DTSTAMP:20260424T034255
CREATED:20250924T175803Z
LAST-MODIFIED:20250924T175853Z
UID:9008-1764496800-1764502200@ourladychapel.org
SUMMARY:Mass ~ 1st Sunday of Advent
DESCRIPTION:
URL:https://ourladychapel.org/event/mass-179/
CATEGORIES:Mass
ATTACH;FMTTYPE=image/png:https://ourladychapel.org/wp-content/uploads/2021/06/mass.png
END:VEVENT
BEGIN:VEVENT
DTSTART;TZID=America/New_York:20251206T170000
DTEND;TZID=America/New_York:20251206T183000
DTSTAMP:20260424T034255
CREATED:20250924T180050Z
LAST-MODIFIED:20250924T180733Z
UID:9012-1765040400-1765045800@ourladychapel.org
SUMMARY:Mass ~ Vigil of the 2nd Sunday in Advent
DESCRIPTION:
URL:https://ourladychapel.org/event/mass-180/
CATEGORIES:Mass
ATTACH;FMTTYPE=image/png:https://ourladychapel.org/wp-content/uploads/2021/06/mass.png
END:VEVENT
BEGIN:VEVENT
DTSTART;TZID=America/New_York:20251207T100000
DTEND;TZID=America/New_York:20251207T113000
DTSTAMP:20260424T034255
CREATED:20250924T180307Z
LAST-MODIFIED:20250924T180307Z
UID:9016-1765101600-1765107000@ourladychapel.org
SUMMARY:Mass ~ 2nd Sunday in Advent
DESCRIPTION:
URL:https://ourladychapel.org/event/mass-2nd-sunday-in-advent/
CATEGORIES:Mass
ATTACH;FMTTYPE=image/png:https://ourladychapel.org/wp-content/uploads/2021/06/mass.png
END:VEVENT
BEGIN:VEVENT
DTSTART;TZID=America/New_York:20251208T091500
DTEND;TZID=America/New_York:20251208T104500
DTSTAMP:20260424T034255
CREATED:20251107T200041Z
LAST-MODIFIED:20251205T214317Z
UID:9491-1765185300-1765190700@ourladychapel.org
SUMMARY:Mass for the Immaculate Conception for the Lower School\, Our Lady Chapel
DESCRIPTION:Mass will be in Our Lady Chapel.   Seating will be avaialble for the Chapel Community.
URL:https://ourladychapel.org/event/mass-for-the-immaculate-conception-for-the-lower-school-2/
CATEGORIES:Mass
ATTACH;FMTTYPE=image/png:https://ourladychapel.org/wp-content/uploads/2021/06/mass.png
END:VEVENT
BEGIN:VEVENT
DTSTART;TZID=America/New_York:20251208T130000
DTEND;TZID=America/New_York:20251208T143000
DTSTAMP:20260424T034255
CREATED:20251205T214230Z
LAST-MODIFIED:20251205T214230Z
UID:9611-1765198800-1765204200@ourladychapel.org
SUMMARY:Middle & Upper School Mass for the Feast of the Immaculate Conception - Gilmour Gymnasium
DESCRIPTION:This Mass will take place in the Lancer Gymnasium\, not in the Chapel. \nSeating is available\, and it is open to the public.  Thank you.
URL:https://ourladychapel.org/event/middle-upper-school-mass-for-the-feast-of-the-immaculate-conception-gilmour-gymnasium/
CATEGORIES:Mass
END:VEVENT
BEGIN:VEVENT
DTSTART;TZID=America/New_York:20251208T173000
DTEND;TZID=America/New_York:20251208T190000
DTSTAMP:20260424T034255
CREATED:20251023T133350Z
LAST-MODIFIED:20251023T144749Z
UID:9304-1765215000-1765220400@ourladychapel.org
SUMMARY:Mass ~ Feast of the Immaculate Conception
DESCRIPTION:
URL:https://ourladychapel.org/event/mass-feast-of-the-immaculate-conception-3/
CATEGORIES:Mass
ATTACH;FMTTYPE=image/png:https://ourladychapel.org/wp-content/uploads/2021/06/mass.png
END:VEVENT
BEGIN:VEVENT
DTSTART;TZID=America/New_York:20251213T170000
DTEND;TZID=America/New_York:20251213T183000
DTSTAMP:20260424T034255
CREATED:20250924T181115Z
LAST-MODIFIED:20250924T181115Z
UID:9023-1765645200-1765650600@ourladychapel.org
SUMMARY:Mass ~ Vigil of the 3rd Sunday in Advent
DESCRIPTION:
URL:https://ourladychapel.org/event/mass-vigil-of-the-3rd-sunday-in-advent/
CATEGORIES:Mass
ATTACH;FMTTYPE=image/png:https://ourladychapel.org/wp-content/uploads/2021/06/mass.png
END:VEVENT
BEGIN:VEVENT
DTSTART;TZID=America/New_York:20251214T100000
DTEND;TZID=America/New_York:20251214T113000
DTSTAMP:20260424T034255
CREATED:20250924T181212Z
LAST-MODIFIED:20250924T181212Z
UID:9025-1765706400-1765711800@ourladychapel.org
SUMMARY:Mass ~ 3rd Sunday in Advent
DESCRIPTION:
URL:https://ourladychapel.org/event/mass-3rd-sunday-in-advent/
CATEGORIES:Mass
ATTACH;FMTTYPE=image/png:https://ourladychapel.org/wp-content/uploads/2021/06/mass.png
END:VEVENT
BEGIN:VEVENT
DTSTART;TZID=America/New_York:20251220T170000
DTEND;TZID=America/New_York:20251220T183000
DTSTAMP:20260424T034255
CREATED:20250924T181327Z
LAST-MODIFIED:20250924T181327Z
UID:9027-1766250000-1766255400@ourladychapel.org
SUMMARY:Mass ~ Vigil of the 4th Sunday in Advent
DESCRIPTION:
URL:https://ourladychapel.org/event/mass-vigil-of-the-4th-sunday-in-advent/
CATEGORIES:Mass
ATTACH;FMTTYPE=image/png:https://ourladychapel.org/wp-content/uploads/2021/06/mass.png
END:VEVENT
BEGIN:VEVENT
DTSTART;TZID=America/New_York:20251221T100000
DTEND;TZID=America/New_York:20251221T113000
DTSTAMP:20260424T034255
CREATED:20250924T181428Z
LAST-MODIFIED:20250924T181428Z
UID:9029-1766311200-1766316600@ourladychapel.org
SUMMARY:Mass ~ 4th Sunday in Advent
DESCRIPTION:
URL:https://ourladychapel.org/event/mass-4th-sunday-in-advent/
CATEGORIES:Mass
ATTACH;FMTTYPE=image/png:https://ourladychapel.org/wp-content/uploads/2021/06/mass.png
END:VEVENT
BEGIN:VEVENT
DTSTART;TZID=America/New_York:20251224T160000
DTEND;TZID=America/New_York:20251224T173000
DTSTAMP:20260424T034255
CREATED:20250925T134959Z
LAST-MODIFIED:20250925T134959Z
UID:9046-1766592000-1766597400@ourladychapel.org
SUMMARY:Mass for Christmas Eve
DESCRIPTION:
URL:https://ourladychapel.org/event/mass-for-christmas-eve-2/
CATEGORIES:Mass
ATTACH;FMTTYPE=image/png:https://ourladychapel.org/wp-content/uploads/2021/06/mass.png
END:VEVENT
BEGIN:VEVENT
DTSTART;TZID=America/New_York:20251225T100000
DTEND;TZID=America/New_York:20251225T113000
DTSTAMP:20260424T034255
CREATED:20250924T181535Z
LAST-MODIFIED:20251201T204456Z
UID:9031-1766656800-1766662200@ourladychapel.org
SUMMARY:Mass for Christmas Day
DESCRIPTION:
URL:https://ourladychapel.org/event/mass-for-christmas-day-2/
CATEGORIES:Mass
ATTACH;FMTTYPE=image/png:https://ourladychapel.org/wp-content/uploads/2021/06/mass.png
END:VEVENT
BEGIN:VEVENT
DTSTART;TZID=America/New_York:20251227T170000
DTEND;TZID=America/New_York:20251227T183000
DTSTAMP:20260424T034255
CREATED:20250924T184928Z
LAST-MODIFIED:20250924T185015Z
UID:9033-1766854800-1766860200@ourladychapel.org
SUMMARY:Mass ~ Vigil of the Feast of the Holy Family
DESCRIPTION:
URL:https://ourladychapel.org/event/mass-feast-of-the-holy-family-2/
CATEGORIES:Mass
ATTACH;FMTTYPE=image/png:https://ourladychapel.org/wp-content/uploads/2021/06/mass.png
END:VEVENT
BEGIN:VEVENT
DTSTART;TZID=America/New_York:20251228T100000
DTEND;TZID=America/New_York:20251228T113000
DTSTAMP:20260424T034255
CREATED:20250924T185100Z
LAST-MODIFIED:20250924T185100Z
UID:9036-1766916000-1766921400@ourladychapel.org
SUMMARY:Mass ~ Feast of the Holy Family
DESCRIPTION:
URL:https://ourladychapel.org/event/mass-feast-of-the-holy-family-3/
CATEGORIES:Mass
ATTACH;FMTTYPE=image/png:https://ourladychapel.org/wp-content/uploads/2021/06/mass.png
END:VEVENT
BEGIN:VEVENT
DTSTART;TZID=America/New_York:20251231T173000
DTEND;TZID=America/New_York:20251231T190000
DTSTAMP:20260424T034255
CREATED:20250924T185152Z
LAST-MODIFIED:20250924T185152Z
UID:9038-1767202200-1767207600@ourladychapel.org
SUMMARY:Mass for New Year's Eve
DESCRIPTION:
URL:https://ourladychapel.org/event/mass-for-new-years-eve/
CATEGORIES:Mass
ATTACH;FMTTYPE=image/png:https://ourladychapel.org/wp-content/uploads/2021/06/mass.png
END:VEVENT
BEGIN:VEVENT
DTSTART;TZID=America/New_York:20260103T170000
DTEND;TZID=America/New_York:20260103T183000
DTSTAMP:20260424T034255
CREATED:20250925T135125Z
LAST-MODIFIED:20250925T135511Z
UID:9048-1767459600-1767465000@ourladychapel.org
SUMMARY:Mass ~ Vigil of The Epiphany
DESCRIPTION:
URL:https://ourladychapel.org/event/mass-181/
CATEGORIES:Mass
ATTACH;FMTTYPE=image/png:https://ourladychapel.org/wp-content/uploads/2021/06/mass.png
END:VEVENT
BEGIN:VEVENT
DTSTART;TZID=America/New_York:20260104T100000
DTEND;TZID=America/New_York:20260104T113000
DTSTAMP:20260424T034255
CREATED:20250925T135604Z
LAST-MODIFIED:20250925T135604Z
UID:9052-1767520800-1767526200@ourladychapel.org
SUMMARY:Mass ~ The Epiphany
DESCRIPTION:
URL:https://ourladychapel.org/event/mass-the-epiphany/
CATEGORIES:Mass
ATTACH;FMTTYPE=image/png:https://ourladychapel.org/wp-content/uploads/2021/06/mass.png
END:VEVENT
BEGIN:VEVENT
DTSTART;TZID=America/New_York:20260110T170000
DTEND;TZID=America/New_York:20260110T183000
DTSTAMP:20260424T034255
CREATED:20250925T135732Z
LAST-MODIFIED:20250925T135732Z
UID:9054-1768064400-1768069800@ourladychapel.org
SUMMARY:Mass ~ Vigil of the Baptism of the Lord
DESCRIPTION:
URL:https://ourladychapel.org/event/mass-vigil-of-the-baptism-of-the-lord/
CATEGORIES:Mass
ATTACH;FMTTYPE=image/png:https://ourladychapel.org/wp-content/uploads/2021/06/mass.png
END:VEVENT
BEGIN:VEVENT
DTSTART;TZID=America/New_York:20260111T100000
DTEND;TZID=America/New_York:20260111T113000
DTSTAMP:20260424T034255
CREATED:20250925T135814Z
LAST-MODIFIED:20250925T135814Z
UID:9056-1768125600-1768131000@ourladychapel.org
SUMMARY:Mass ~ The Baptism of the Lord
DESCRIPTION:
URL:https://ourladychapel.org/event/mass-the-baptism-of-the-lord/
CATEGORIES:Mass
ATTACH;FMTTYPE=image/png:https://ourladychapel.org/wp-content/uploads/2021/06/mass.png
END:VEVENT
BEGIN:VEVENT
DTSTART;TZID=America/New_York:20260112T092000
DTEND;TZID=America/New_York:20260112T105000
DTSTAMP:20260424T034255
CREATED:20251230T155919Z
LAST-MODIFIED:20251230T160038Z
UID:9744-1768209600-1768215000@ourladychapel.org
SUMMARY:Lower School Mass
DESCRIPTION:
URL:https://ourladychapel.org/event/lower-school-mass-5/
CATEGORIES:Mass
ATTACH;FMTTYPE=image/png:https://ourladychapel.org/wp-content/uploads/2021/06/mass.png
END:VEVENT
BEGIN:VEVENT
DTSTART;TZID=America/New_York:20260117T170000
DTEND;TZID=America/New_York:20260117T183000
DTSTAMP:20260424T034255
CREATED:20250925T140024Z
LAST-MODIFIED:20250925T140024Z
UID:9058-1768669200-1768674600@ourladychapel.org
SUMMARY:Mass
DESCRIPTION:
URL:https://ourladychapel.org/event/mass-182/
CATEGORIES:Mass
ATTACH;FMTTYPE=image/png:https://ourladychapel.org/wp-content/uploads/2021/06/mass.png
END:VEVENT
BEGIN:VEVENT
DTSTART;TZID=America/New_York:20260118T100000
DTEND;TZID=America/New_York:20260118T113000
DTSTAMP:20260424T034255
CREATED:20250925T142142Z
LAST-MODIFIED:20250925T145127Z
UID:9062-1768730400-1768735800@ourladychapel.org
SUMMARY:Mass
DESCRIPTION:
URL:https://ourladychapel.org/event/mass-183/
CATEGORIES:Mass
ATTACH;FMTTYPE=image/png:https://ourladychapel.org/wp-content/uploads/2021/06/mass.png
END:VEVENT
END:VCALENDAR