BEGIN:VCALENDAR
VERSION:2.0
PRODID:-//Our Lady Chapel - ECPv6.15.20//NONSGML v1.0//EN
CALSCALE:GREGORIAN
METHOD:PUBLISH
X-WR-CALNAME:Our Lady Chapel
X-ORIGINAL-URL:https://ourladychapel.org
X-WR-CALDESC:Events for Our Lady Chapel
REFRESH-INTERVAL;VALUE=DURATION:PT1H
X-Robots-Tag:noindex
X-PUBLISHED-TTL:PT1H
BEGIN:VTIMEZONE
TZID:America/New_York
BEGIN:DAYLIGHT
TZOFFSETFROM:-0500
TZOFFSETTO:-0400
TZNAME:EDT
DTSTART:20250309T070000
END:DAYLIGHT
BEGIN:STANDARD
TZOFFSETFROM:-0400
TZOFFSETTO:-0500
TZNAME:EST
DTSTART:20251102T060000
END:STANDARD
BEGIN:DAYLIGHT
TZOFFSETFROM:-0500
TZOFFSETTO:-0400
TZNAME:EDT
DTSTART:20260308T070000
END:DAYLIGHT
BEGIN:STANDARD
TZOFFSETFROM:-0400
TZOFFSETTO:-0500
TZNAME:EST
DTSTART:20261101T060000
END:STANDARD
BEGIN:DAYLIGHT
TZOFFSETFROM:-0500
TZOFFSETTO:-0400
TZNAME:EDT
DTSTART:20270314T070000
END:DAYLIGHT
BEGIN:STANDARD
TZOFFSETFROM:-0400
TZOFFSETTO:-0500
TZNAME:EST
DTSTART:20271107T060000
END:STANDARD
END:VTIMEZONE
BEGIN:VEVENT
DTSTART;TZID=America/New_York:20260509T170000
DTEND;TZID=America/New_York:20260509T183000
DTSTAMP:20260423T184614
CREATED:20251230T191216Z
LAST-MODIFIED:20251230T191216Z
UID:9796-1778346000-1778351400@ourladychapel.org
SUMMARY:Mass
DESCRIPTION:
URL:https://ourladychapel.org/event/mass-9/
CATEGORIES:Mass
ATTACH;FMTTYPE=image/png:https://ourladychapel.org/wp-content/uploads/2021/06/mass.png
END:VEVENT
BEGIN:VEVENT
DTSTART;TZID=America/New_York:20260510T100000
DTEND;TZID=America/New_York:20260510T113000
DTSTAMP:20260423T184614
CREATED:20251230T191259Z
LAST-MODIFIED:20251230T191441Z
UID:9798-1778407200-1778412600@ourladychapel.org
SUMMARY:Mass
DESCRIPTION:
URL:https://ourladychapel.org/event/mass-10/
CATEGORIES:Mass
ATTACH;FMTTYPE=image/png:https://ourladychapel.org/wp-content/uploads/2021/06/mass.png
END:VEVENT
BEGIN:VEVENT
DTSTART;TZID=America/New_York:20260511T092000
DTEND;TZID=America/New_York:20260511T105000
DTSTAMP:20260423T184614
CREATED:20251230T161028Z
LAST-MODIFIED:20251230T161028Z
UID:9753-1778491200-1778496600@ourladychapel.org
SUMMARY:Lower School Mass
DESCRIPTION:
URL:https://ourladychapel.org/event/lower-school-mass-8/
CATEGORIES:Mass
ATTACH;FMTTYPE=image/png:https://ourladychapel.org/wp-content/uploads/2021/06/mass.png
END:VEVENT
BEGIN:VEVENT
DTSTART;TZID=America/New_York:20260516T170000
DTEND;TZID=America/New_York:20260516T183000
DTSTAMP:20260423T184614
CREATED:20251230T191551Z
LAST-MODIFIED:20251230T191551Z
UID:9800-1778950800-1778956200@ourladychapel.org
SUMMARY:Mass
DESCRIPTION:
URL:https://ourladychapel.org/event/mass-11/
CATEGORIES:Mass
ATTACH;FMTTYPE=image/png:https://ourladychapel.org/wp-content/uploads/2021/06/mass.png
END:VEVENT
BEGIN:VEVENT
DTSTART;TZID=America/New_York:20260517T100000
DTEND;TZID=America/New_York:20260517T113000
DTSTAMP:20260423T184614
CREATED:20251230T191705Z
LAST-MODIFIED:20251230T191705Z
UID:9802-1779012000-1779017400@ourladychapel.org
SUMMARY:Mass
DESCRIPTION:
URL:https://ourladychapel.org/event/mass-12/
CATEGORIES:Mass
ATTACH;FMTTYPE=image/png:https://ourladychapel.org/wp-content/uploads/2021/06/mass.png
END:VEVENT
BEGIN:VEVENT
DTSTART;TZID=America/New_York:20260523T170000
DTEND;TZID=America/New_York:20260523T183000
DTSTAMP:20260423T184614
CREATED:20251230T191812Z
LAST-MODIFIED:20251230T192506Z
UID:9804-1779555600-1779561000@ourladychapel.org
SUMMARY:Mass ~ Baccalaureate Mass in the Lancer Gymnasium
DESCRIPTION:Fr. John will be celebrating the Baccalaureate Mass with the members of our graduating class today at 5:00 pm in the Gymnasium of our Athletic Center.   All are welcome to attend Mass in the Athletic Center\, as there will be no 5 pm Mass in Our Lady Chapel this evening.
URL:https://ourladychapel.org/event/mass-13/
CATEGORIES:Mass
ATTACH;FMTTYPE=image/png:https://ourladychapel.org/wp-content/uploads/2021/06/mass.png
END:VEVENT
BEGIN:VEVENT
DTSTART;TZID=America/New_York:20260524T090000
DTEND;TZID=America/New_York:20260524T103000
DTSTAMP:20260423T184614
CREATED:20251230T191901Z
LAST-MODIFIED:20251230T192133Z
UID:9806-1779613200-1779618600@ourladychapel.org
SUMMARY:Mass ~ Early start time
DESCRIPTION:Due to Gilmour Academy Commencement ceremonies taking place later this morning\, our Mass has to begin earlier than our normal time.
URL:https://ourladychapel.org/event/mass-14/
CATEGORIES:Mass
ATTACH;FMTTYPE=image/png:https://ourladychapel.org/wp-content/uploads/2021/06/mass.png
END:VEVENT
BEGIN:VEVENT
DTSTART;TZID=America/New_York:20260525T093000
DTEND;TZID=America/New_York:20260525T110000
DTSTAMP:20260423T184614
CREATED:20251230T192649Z
LAST-MODIFIED:20251230T192649Z
UID:9812-1779701400-1779706800@ourladychapel.org
SUMMARY:Memorial Day Mass
DESCRIPTION:
URL:https://ourladychapel.org/event/memorial-day-mass/
CATEGORIES:Mass
ATTACH;FMTTYPE=image/png:https://ourladychapel.org/wp-content/uploads/2021/06/mass.png
END:VEVENT
BEGIN:VEVENT
DTSTART;TZID=America/New_York:20260530T170000
DTEND;TZID=America/New_York:20260530T183000
DTSTAMP:20260423T184614
CREATED:20251230T192744Z
LAST-MODIFIED:20251230T192744Z
UID:9814-1780160400-1780165800@ourladychapel.org
SUMMARY:Mass
DESCRIPTION:
URL:https://ourladychapel.org/event/mass-15/
CATEGORIES:Mass
ATTACH;FMTTYPE=image/png:https://ourladychapel.org/wp-content/uploads/2021/06/mass.png
END:VEVENT
BEGIN:VEVENT
DTSTART;TZID=America/New_York:20260531T100000
DTEND;TZID=America/New_York:20260531T113000
DTSTAMP:20260423T184614
CREATED:20251230T192822Z
LAST-MODIFIED:20251230T192822Z
UID:9816-1780221600-1780227000@ourladychapel.org
SUMMARY:Mass
DESCRIPTION:
URL:https://ourladychapel.org/event/mass-16/
CATEGORIES:Mass
ATTACH;FMTTYPE=image/png:https://ourladychapel.org/wp-content/uploads/2021/06/mass.png
END:VEVENT
BEGIN:VEVENT
DTSTART;TZID=America/New_York:20260606T170000
DTEND;TZID=America/New_York:20260606T183000
DTSTAMP:20260423T184614
CREATED:20260407T201424Z
LAST-MODIFIED:20260407T201424Z
UID:10431-1780765200-1780770600@ourladychapel.org
SUMMARY:Mass
DESCRIPTION:
URL:https://ourladychapel.org/event/mass-17/
CATEGORIES:Mass
ATTACH;FMTTYPE=image/png:https://ourladychapel.org/wp-content/uploads/2021/06/mass.png
END:VEVENT
BEGIN:VEVENT
DTSTART;TZID=America/New_York:20260607T100000
DTEND;TZID=America/New_York:20260607T113000
DTSTAMP:20260423T184614
CREATED:20260407T201502Z
LAST-MODIFIED:20260407T201502Z
UID:10433-1780826400-1780831800@ourladychapel.org
SUMMARY:Mass
DESCRIPTION:
URL:https://ourladychapel.org/event/mass-18/
CATEGORIES:Mass
ATTACH;FMTTYPE=image/png:https://ourladychapel.org/wp-content/uploads/2021/06/mass.png
END:VEVENT
BEGIN:VEVENT
DTSTART;TZID=America/New_York:20260613T170000
DTEND;TZID=America/New_York:20260613T183000
DTSTAMP:20260423T184614
CREATED:20260407T201552Z
LAST-MODIFIED:20260407T201625Z
UID:10435-1781370000-1781375400@ourladychapel.org
SUMMARY:Mass
DESCRIPTION:
URL:https://ourladychapel.org/event/mass-19/
CATEGORIES:Mass
ATTACH;FMTTYPE=image/png:https://ourladychapel.org/wp-content/uploads/2021/06/mass.png
END:VEVENT
BEGIN:VEVENT
DTSTART;TZID=America/New_York:20260614T100000
DTEND;TZID=America/New_York:20260614T113000
DTSTAMP:20260423T184614
CREATED:20260407T201706Z
LAST-MODIFIED:20260407T201706Z
UID:10437-1781431200-1781436600@ourladychapel.org
SUMMARY:Mass
DESCRIPTION:
URL:https://ourladychapel.org/event/mass-20/
CATEGORIES:Mass
ATTACH;FMTTYPE=image/png:https://ourladychapel.org/wp-content/uploads/2021/06/mass.png
END:VEVENT
BEGIN:VEVENT
DTSTART;TZID=America/New_York:20260620T170000
DTEND;TZID=America/New_York:20260620T183000
DTSTAMP:20260423T184614
CREATED:20260407T201751Z
LAST-MODIFIED:20260407T201751Z
UID:10439-1781974800-1781980200@ourladychapel.org
SUMMARY:Mass
DESCRIPTION:
URL:https://ourladychapel.org/event/mass-21/
CATEGORIES:Mass
ATTACH;FMTTYPE=image/png:https://ourladychapel.org/wp-content/uploads/2021/06/mass.png
END:VEVENT
BEGIN:VEVENT
DTSTART;TZID=America/New_York:20260621T100000
DTEND;TZID=America/New_York:20260621T113000
DTSTAMP:20260423T184614
CREATED:20260407T201928Z
LAST-MODIFIED:20260407T201928Z
UID:10442-1782036000-1782041400@ourladychapel.org
SUMMARY:Mass
DESCRIPTION:
URL:https://ourladychapel.org/event/mass-22/
CATEGORIES:Mass
ATTACH;FMTTYPE=image/png:https://ourladychapel.org/wp-content/uploads/2021/06/mass.png
END:VEVENT
BEGIN:VEVENT
DTSTART;TZID=America/New_York:20260627T170000
DTEND;TZID=America/New_York:20260627T183000
DTSTAMP:20260423T184614
CREATED:20260407T202303Z
LAST-MODIFIED:20260407T202303Z
UID:10444-1782579600-1782585000@ourladychapel.org
SUMMARY:Mass
DESCRIPTION:
URL:https://ourladychapel.org/event/mass-23/
CATEGORIES:Mass
ATTACH;FMTTYPE=image/png:https://ourladychapel.org/wp-content/uploads/2021/06/mass.png
END:VEVENT
BEGIN:VEVENT
DTSTART;TZID=America/New_York:20260628T100000
DTEND;TZID=America/New_York:20260628T113000
DTSTAMP:20260423T184614
CREATED:20260407T202347Z
LAST-MODIFIED:20260407T202347Z
UID:10446-1782640800-1782646200@ourladychapel.org
SUMMARY:Mass
DESCRIPTION:
URL:https://ourladychapel.org/event/mass-24/
CATEGORIES:Mass
ATTACH;FMTTYPE=image/png:https://ourladychapel.org/wp-content/uploads/2021/06/mass.png
END:VEVENT
END:VCALENDAR