BEGIN:VCALENDAR
VERSION:2.0
PRODID:-//Our Lady Chapel - ECPv6.15.20//NONSGML v1.0//EN
CALSCALE:GREGORIAN
METHOD:PUBLISH
X-WR-CALNAME:Our Lady Chapel
X-ORIGINAL-URL:https://ourladychapel.org
X-WR-CALDESC:Events for Our Lady Chapel
REFRESH-INTERVAL;VALUE=DURATION:PT1H
X-Robots-Tag:noindex
X-PUBLISHED-TTL:PT1H
BEGIN:VTIMEZONE
TZID:America/New_York
BEGIN:DAYLIGHT
TZOFFSETFROM:-0500
TZOFFSETTO:-0400
TZNAME:EDT
DTSTART:20240310T070000
END:DAYLIGHT
BEGIN:STANDARD
TZOFFSETFROM:-0400
TZOFFSETTO:-0500
TZNAME:EST
DTSTART:20241103T060000
END:STANDARD
BEGIN:DAYLIGHT
TZOFFSETFROM:-0500
TZOFFSETTO:-0400
TZNAME:EDT
DTSTART:20250309T070000
END:DAYLIGHT
BEGIN:STANDARD
TZOFFSETFROM:-0400
TZOFFSETTO:-0500
TZNAME:EST
DTSTART:20251102T060000
END:STANDARD
BEGIN:DAYLIGHT
TZOFFSETFROM:-0500
TZOFFSETTO:-0400
TZNAME:EDT
DTSTART:20260308T070000
END:DAYLIGHT
BEGIN:STANDARD
TZOFFSETFROM:-0400
TZOFFSETTO:-0500
TZNAME:EST
DTSTART:20261101T060000
END:STANDARD
BEGIN:DAYLIGHT
TZOFFSETFROM:-0500
TZOFFSETTO:-0400
TZNAME:EDT
DTSTART:20270314T070000
END:DAYLIGHT
BEGIN:STANDARD
TZOFFSETFROM:-0400
TZOFFSETTO:-0500
TZNAME:EST
DTSTART:20271107T060000
END:STANDARD
END:VTIMEZONE
BEGIN:VEVENT
DTSTART;TZID=America/New_York:20260401T183000
DTEND;TZID=America/New_York:20260401T200000
DTSTAMP:20260423T154014
CREATED:20260327T143248Z
LAST-MODIFIED:20260327T143248Z
UID:10247-1775068200-1775073600@ourladychapel.org
SUMMARY:Virtual Bible Study ~ Prayer: What we learn from Jesus in the Garden
DESCRIPTION:Bible Study normally meets via zoom\, every other Wednesday\, from 6:30 – 8:00 pm.    If you are new to participating in Virtual Bible Study\, please send Fr. John your email at: blazekj@gilmour.org .     He will reply to you with the zoom link\, and materials for that evening’s study topic.
URL:https://ourladychapel.org/event/virtual-bible-study-prayer-what-we-learn-from-jesus-in-the-garden-2/
CATEGORIES:Virtual Bible Study
ATTACH;FMTTYPE=image/png:https://ourladychapel.org/wp-content/uploads/2021/06/bible-study.png
END:VEVENT
BEGIN:VEVENT
DTSTART;TZID=America/New_York:20260325T183000
DTEND;TZID=America/New_York:20260325T200000
DTSTAMP:20260423T154014
CREATED:20260312T150303Z
LAST-MODIFIED:20260312T150503Z
UID:10177-1774463400-1774468800@ourladychapel.org
SUMMARY:Virtual Bible Study ~ Prayer: what we learn from Jesus in the Garden
DESCRIPTION:Virtual Bible Study normally meets every other Wednesday from 6:30 – 8:00 pm\, via Zoom. \nPlease emaill Fr. John [blazekj@gilmour.org ] to receive the zoom link and materials for the evening’s topic.
URL:https://ourladychapel.org/event/virtual-bible-study-prayer-what-we-learn-from-jesus-in-the-garden/
CATEGORIES:Virtual Bible Study
ATTACH;FMTTYPE=image/png:https://ourladychapel.org/wp-content/uploads/2021/06/bible-study.png
END:VEVENT
BEGIN:VEVENT
DTSTART;TZID=America/New_York:20260304T183000
DTEND;TZID=America/New_York:20260304T200000
DTSTAMP:20260423T154014
CREATED:20260223T212838Z
LAST-MODIFIED:20260223T212838Z
UID:10111-1772649000-1772654400@ourladychapel.org
SUMMARY:Virtual Bible Study: The Cross - Death & Resurrection
DESCRIPTION:
URL:https://ourladychapel.org/event/virtual-bible-study-the-cross-death-resurrection/
CATEGORIES:Virtual Bible Study
ATTACH;FMTTYPE=image/png:https://ourladychapel.org/wp-content/uploads/2021/06/bible-study.png
END:VEVENT
BEGIN:VEVENT
DTSTART;TZID=America/New_York:20260219T183000
DTEND;TZID=America/New_York:20260219T200000
DTSTAMP:20260423T154014
CREATED:20260202T214520Z
LAST-MODIFIED:20260202T214520Z
UID:9979-1771525800-1771531200@ourladychapel.org
SUMMARY:Virtual Bible Study - God's Call to Repentance
DESCRIPTION:Virtual Bible Study normally meets every other Wednesday or Thursday\, from 6:30 – 8:00 pm. \nPlease emaill Fr. John [blazekj@gilmour.org ] to receive the zoom link and materials for the topic for discussion.
URL:https://ourladychapel.org/event/virtual-bible-study-gods-call-to-repentance-2/
CATEGORIES:Virtual Bible Study
ATTACH;FMTTYPE=image/png:https://ourladychapel.org/wp-content/uploads/2021/06/bible-study.png
END:VEVENT
BEGIN:VEVENT
DTSTART;TZID=America/New_York:20260129T183000
DTEND;TZID=America/New_York:20260129T200000
DTSTAMP:20260423T154014
CREATED:20260109T202450Z
LAST-MODIFIED:20260109T202704Z
UID:9839-1769711400-1769716800@ourladychapel.org
SUMMARY:Virtual Bible Study: God's Call to Repentance
DESCRIPTION:Virtual Bible Study normally meets every other Wednesday or Thursday\, via zoom\, from 6:30 – 8:00 pm. \nOur topic for discussion will be God’s call to repentance.  If you are joining in Bible Study for the first time\, please email Fr. John (blazekj@gilmour.org) so that he can forward you the zoom link\, and materials for the topic for the evening. \nPlease join us for an opportunity to be enriched by God’s word.
URL:https://ourladychapel.org/event/virtual-bible-study-gods-call-to-repentance/
CATEGORIES:Virtual Bible Study
ATTACH;FMTTYPE=image/png:https://ourladychapel.org/wp-content/uploads/2021/06/bible-study.png
END:VEVENT
BEGIN:VEVENT
DTSTART;TZID=America/New_York:20260108T183000
DTEND;TZID=America/New_York:20260108T200000
DTSTAMP:20260423T154014
CREATED:20251211T135732Z
LAST-MODIFIED:20251211T135841Z
UID:9628-1767897000-1767902400@ourladychapel.org
SUMMARY:Virtual Bible Study ~ The Meaning of the Epiphany of Jesus
DESCRIPTION:Virtual Bible Study normally meets every other Wednesday\, via zoom\, from 6:30 – 8:00 pm. \nIf you are joining in Bible Study for the first time\, please email Fr. John (blazekj@gilmour.org) so that he can forward you the zoom link\, and materials for the topic for the evening. \nPlease join us for an opportunity to be enriched by God’s word.
URL:https://ourladychapel.org/event/virtual-bible-study-the-meaning-of-the-epiphany-of-jesus/
CATEGORIES:Virtual Bible Study
ATTACH;FMTTYPE=image/png:https://ourladychapel.org/wp-content/uploads/2021/06/bible-study.png
END:VEVENT
BEGIN:VEVENT
DTSTART;TZID=America/New_York:20251210T183000
DTEND;TZID=America/New_York:20251210T200000
DTSTAMP:20260423T154014
CREATED:20251203T141801Z
LAST-MODIFIED:20251203T142135Z
UID:9602-1765391400-1765396800@ourladychapel.org
SUMMARY:Virtual Bible Study ~ Living Advent as found in Scripture
DESCRIPTION:Virtual Bible Study normally meets every other Wednesday\, via zoom\, from 6:30 – 8:00 pm. \nIf you are joining in Bible Study for the first time\, please email Fr. John (blazekj@gilmour.org) so that he can forward you the zoom link\, and materials for the topic for the evening. \nPlease join us for an opportunity to be enriched by God’s word.
URL:https://ourladychapel.org/event/virtual-bible-study-living-advent-as-found-in-scripture/
CATEGORIES:Virtual Bible Study
ATTACH;FMTTYPE=image/png:https://ourladychapel.org/wp-content/uploads/2021/06/bible-study.png
END:VEVENT
BEGIN:VEVENT
DTSTART;TZID=America/New_York:20251203T183000
DTEND;TZID=America/New_York:20251203T200000
DTSTAMP:20260423T154014
CREATED:20251106T194114Z
LAST-MODIFIED:20251203T141631Z
UID:9384-1764786600-1764792000@ourladychapel.org
SUMMARY:Virtual Bible Study CANCELLED ~ Postponed to next Wednesday\, December 10th
DESCRIPTION:Fr. John just learned of a new commitment he has this evening with other members of the Holy Cross congregation\, so he has to cancel tonight’s Bible Study. \nTonights session has been moved to next Wednesday\, December 10th.   \nIf you are joining in Bible Study for the first time\, please email Fr. John (blazekj@gilmour.org) so that he can forward you the zoom link\, and materials for the topic for the evening. \nVirtual Bible Study normally meets every other Wednesday\, via zoom\, from 6:30 – 8:00 pm. \nPlease join us for an opportunity to be enriched by God’s word.
URL:https://ourladychapel.org/event/virtual-bible-study-advent-through-scripture/
CATEGORIES:Virtual Bible Study
ATTACH;FMTTYPE=image/png:https://ourladychapel.org/wp-content/uploads/2021/06/bible-study.png
END:VEVENT
BEGIN:VEVENT
DTSTART;TZID=America/New_York:20251105T183000
DTEND;TZID=America/New_York:20251105T200000
DTSTAMP:20260423T154014
CREATED:20251024T174507Z
LAST-MODIFIED:20251024T174636Z
UID:9309-1762367400-1762372800@ourladychapel.org
SUMMARY:Virtual Bible Study ~ Our Soul is the Center of Our Life
DESCRIPTION:Virtual Bible Study normally meets every other Wednesday\, via zoom\, from 6:30 – 8:00 pm. \nIf you are joining in Bible Study for the first time\, please email Fr. John (blazekj@gilmour.org) so that he can forward you the zoom link\, and materials for the topic for the evening. \nPlease join us for an opportunity to be enriched by God’s word. \n 
URL:https://ourladychapel.org/event/virtual-bible-study-our-soul-is-the-center-of-our-life/
CATEGORIES:Virtual Bible Study
ATTACH;FMTTYPE=image/png:https://ourladychapel.org/wp-content/uploads/2021/06/bible-study.png
END:VEVENT
BEGIN:VEVENT
DTSTART;TZID=America/New_York:20251022T183000
DTEND;TZID=America/New_York:20251022T200000
DTSTAMP:20260423T154014
CREATED:20250925T134516Z
LAST-MODIFIED:20251016T121127Z
UID:9042-1761157800-1761163200@ourladychapel.org
SUMMARY:Virtual Bible Study ~ Spirituality as it is found in Scripture
DESCRIPTION:Bible Study was cancelled last evening.  We have rescheduled it for next week.   Our topic will remain the same: Spirituality as it is found in Scripture. \nVirtual Bible Study normally meets every other Wednesday\, via zoom\, from 6:30 – 8:00 pm. \nIf you are joining in Bible Study for the first time\, please email Fr. John (blazekj@gilmour.org) so that he can forward you the zoom link\, and materials for the topic for the evening.
URL:https://ourladychapel.org/event/virtual-bible-study-3/
CATEGORIES:Virtual Bible Study
ATTACH;FMTTYPE=image/png:https://ourladychapel.org/wp-content/uploads/2021/06/bible-study.png
END:VEVENT
BEGIN:VEVENT
DTSTART;TZID=America/New_York:20250924T183000
DTEND;TZID=America/New_York:20250924T200000
DTSTAMP:20260423T154014
CREATED:20250904T173352Z
LAST-MODIFIED:20250904T173452Z
UID:8887-1758738600-1758744000@ourladychapel.org
SUMMARY:Virtual Bible Study - Who Are the Angels?
DESCRIPTION:Virtual Bible Study normally meets every other Wednesday\, via zoom\, from 6:30 – 8:00 pm. \nIf you are joining in Bible Study for the first time\, please email Fr. John (blazekj@gilmour.org) so that he can forward you the zoom link\, and materials for the topic for the evening.
URL:https://ourladychapel.org/event/virtual-bible-study-who-are-the-angels/
CATEGORIES:Virtual Bible Study
ATTACH;FMTTYPE=image/png:https://ourladychapel.org/wp-content/uploads/2021/06/bible-study.png
END:VEVENT
BEGIN:VEVENT
DTSTART;TZID=America/New_York:20250903T183000
DTEND;TZID=America/New_York:20250903T200000
DTSTAMP:20260423T154014
CREATED:20250820T190821Z
LAST-MODIFIED:20250828T145132Z
UID:8803-1756924200-1756929600@ourladychapel.org
SUMMARY:Virtual Bible Study ~ The Mass as Community Prayer\, Part III
DESCRIPTION:Virtual Bible Study normally meets every other Wednesday\, via zoom\, from 6:30 – 8:00 pm. \nIf you are joining in Bible Study for the first time\, please email Fr. John (blazekj@gilmour.org) so that he can forward you the zoom link\, and materials for the topic for the evening.
URL:https://ourladychapel.org/event/virtual-bible-study-the-mass-as-community-prayer-part-iii/
CATEGORIES:Virtual Bible Study
ATTACH;FMTTYPE=image/png:https://ourladychapel.org/wp-content/uploads/2021/06/bible-study.png
END:VEVENT
END:VCALENDAR