BEGIN:VCALENDAR
VERSION:2.0
PRODID:-//Our Lady Chapel - ECPv6.15.20//NONSGML v1.0//EN
CALSCALE:GREGORIAN
METHOD:PUBLISH
X-ORIGINAL-URL:https://ourladychapel.org
X-WR-CALDESC:Events for Our Lady Chapel
REFRESH-INTERVAL;VALUE=DURATION:PT1H
X-Robots-Tag:noindex
X-PUBLISHED-TTL:PT1H
BEGIN:VTIMEZONE
TZID:America/New_York
BEGIN:DAYLIGHT
TZOFFSETFROM:-0500
TZOFFSETTO:-0400
TZNAME:EDT
DTSTART:20240310T070000
END:DAYLIGHT
BEGIN:STANDARD
TZOFFSETFROM:-0400
TZOFFSETTO:-0500
TZNAME:EST
DTSTART:20241103T060000
END:STANDARD
BEGIN:DAYLIGHT
TZOFFSETFROM:-0500
TZOFFSETTO:-0400
TZNAME:EDT
DTSTART:20250309T070000
END:DAYLIGHT
BEGIN:STANDARD
TZOFFSETFROM:-0400
TZOFFSETTO:-0500
TZNAME:EST
DTSTART:20251102T060000
END:STANDARD
BEGIN:DAYLIGHT
TZOFFSETFROM:-0500
TZOFFSETTO:-0400
TZNAME:EDT
DTSTART:20260308T070000
END:DAYLIGHT
BEGIN:STANDARD
TZOFFSETFROM:-0400
TZOFFSETTO:-0500
TZNAME:EST
DTSTART:20261101T060000
END:STANDARD
END:VTIMEZONE
BEGIN:VEVENT
DTSTART;TZID=America/New_York:20250924T183000
DTEND;TZID=America/New_York:20250924T200000
DTSTAMP:20260423T154202
CREATED:20250904T173352Z
LAST-MODIFIED:20250904T173452Z
UID:8887-1758738600-1758744000@ourladychapel.org
SUMMARY:Virtual Bible Study - Who Are the Angels?
DESCRIPTION:Virtual Bible Study normally meets every other Wednesday\, via zoom\, from 6:30 – 8:00 pm. \nIf you are joining in Bible Study for the first time\, please email Fr. John (blazekj@gilmour.org) so that he can forward you the zoom link\, and materials for the topic for the evening.
URL:https://ourladychapel.org/event/virtual-bible-study-who-are-the-angels/
CATEGORIES:Virtual Bible Study
ATTACH;FMTTYPE=image/png:https://ourladychapel.org/wp-content/uploads/2021/06/bible-study.png
END:VEVENT
BEGIN:VEVENT
DTSTART;TZID=America/New_York:20250903T183000
DTEND;TZID=America/New_York:20250903T200000
DTSTAMP:20260423T154202
CREATED:20250820T190821Z
LAST-MODIFIED:20250828T145132Z
UID:8803-1756924200-1756929600@ourladychapel.org
SUMMARY:Virtual Bible Study ~ The Mass as Community Prayer\, Part III
DESCRIPTION:Virtual Bible Study normally meets every other Wednesday\, via zoom\, from 6:30 – 8:00 pm. \nIf you are joining in Bible Study for the first time\, please email Fr. John (blazekj@gilmour.org) so that he can forward you the zoom link\, and materials for the topic for the evening.
URL:https://ourladychapel.org/event/virtual-bible-study-the-mass-as-community-prayer-part-iii/
CATEGORIES:Virtual Bible Study
ATTACH;FMTTYPE=image/png:https://ourladychapel.org/wp-content/uploads/2021/06/bible-study.png
END:VEVENT
END:VCALENDAR